BEGIN:VCALENDAR
VERSION:2.0
PRODID:-//ChamberMaster//Event Calendar 2.0//EN
METHOD:PUBLISH
X-PUBLISHED-TTL:P3D
REFRESH-INTERVAL:P3D
CALSCALE:GREGORIAN
BEGIN:VEVENT
DTSTART:20230503T220000Z
DTEND:20230504T010000Z
X-MICROSOFT-CDO-ALLDAYEVENT:FALSE
SUMMARY:113th Annual Meeting of the Albany Area Chamber
DESCRIPTION:[This event has been rescheduled from April 27\, 2023\, due to inclement weather.] \n\nThe Albany Area Chamber's 113th annual meeting celebrates accomplishments\, shares how the Chamber will continue to move businesses forward throughout the year ahead and shines the light on the Chamber's most engaged leaders and those who have worked to make a positive impact on Albany and the Albany Area.\n\nThe 2023 annual meeting\, presented by the City of Albany and Albany Community Together\, will include the transfer of the chairman's gavel\; honor the Chamber's Lifetime Service Award recipient\, Patsy Martin of Walden & Kirkland\; and announce the 2022 Albany Under 40 Young Professional of the Year. \n\n\n\nThe outdoor event\, hosted on the Bricks at Thronateeska in downtown Albany under a canopy of lights\, kicks off at 6 p.m. with a reception that includes an oyster bar and an assortment of small dishes prepared by local Chamber member food vendors. The program starts at 7 p.m.\, after which we encourage you to stick around for the after party\, featuring local hit Essence Band.\n\n\n\nTickets\, tables and sponsorship opportunities are available for purchase. All sales are final.\n\n\n\n[The Albany Area Chamber may postpone or reschedule events at its discretion.]
X-ALT-DESC;FMTTYPE=text/html:<div style="box-sizing: border-box\; font-variant-ligatures: normal\; orphans: 2\; widows: 2\;">\n<p style="caret-color: rgb(0\, 0\, 0)\; color: rgb(0\, 0\, 0)\; font-family: &quot\;Times New Roman&quot\;\, serif\; font-size: medium\; margin-right: 0in\; margin-left: 0in\; margin-bottom: 12pt\;"><span style="font-size:12px\;"><span style="font-family:arial\;"><i>[This event has been rescheduled from April 27\, 2023\, due to inclement weather.]&nbsp\;</i></span></span></p>\n\n<p style="margin-right: 0in\; margin-left: 0in\; margin-bottom: 12pt\;"><span style="font-size:12px\;"><span style="font-family:arial\;"><font color="#000000">The&nbsp\;Albany&nbsp\;Area Chamber&#39\;s 113th annual meeting&nbsp\;celebrates accomplishments\, shares how the Chamber will continue to move businesses forward throughout the year ahead and shines the light on the Chamber&rsquo\;s most engaged leaders and those who have worked to make a positive impact on Albany and the Albany Area.</font></span></span><span style="caret-color: rgb(0\, 0\, 0)\; color: rgb(0\, 0\, 0)\; font-family: Calibri\, sans-serif\; font-size: medium\;"><o:p></o:p></span></p>\n\n<p style="caret-color: rgb(0\, 0\, 0)\; color: rgb(0\, 0\, 0)\; font-family: &quot\;Times New Roman&quot\;\, serif\; font-size: medium\; margin-right: 0in\; margin-left: 0in\; margin-bottom: 12pt\;"><span style="font-size:12px\;"><span style="font-family:arial\;">The 2023&nbsp\;annual meeting\, presented by the City of Albany and Albany Community Together\,&nbsp\;will include the transfer of the chairman&rsquo\;s gavel\; honor the Chamber&rsquo\;s Lifetime Service Award recipient\, Patsy Martin of Walden &amp\; Kirkland\; and announce the 2022&nbsp\;Albany Under 40 Young Professional of the Year.&nbsp\;<br />\n<br />\nThe outdoor event\, hosted on the Bricks at Thronateeska in downtown Albany under a canopy of lights\, kicks off at 6 p.m. with a reception that includes an oyster bar and an assortment of small dishes prepared by local Chamber member food vendors. The program starts at 7 p.m.\, after which we encourage you to stick around for the after party\, featuring local hit Essence Band.<br />\n<br />\n<span style="caret-color: rgb(0\, 0\, 0)\; color: rgb(0\, 0\, 0)\; orphans: 2\; widows: 2\;">Tickets\, tables and sponsorship opportunities are available for purchase. All sales are final.</span><br style="box-sizing: border-box\; caret-color: rgb(0\, 0\, 0)\; color: rgb(0\, 0\, 0)\; font-family: &quot\;Segoe UI&quot\;\, system-ui\, &quot\;Apple Color Emoji&quot\;\, &quot\;Segoe UI Emoji&quot\;\, sans-serif\; font-size: 14px\; orphans: 2\; widows: 2\;" />\n<br style="box-sizing: border-box\; caret-color: rgb(0\, 0\, 0)\; color: rgb(0\, 0\, 0)\; font-family: &quot\;Segoe UI&quot\;\, system-ui\, &quot\;Apple Color Emoji&quot\;\, &quot\;Segoe UI Emoji&quot\;\, sans-serif\; font-size: 14px\; orphans: 2\; widows: 2\;" />\n<span style="margin: 0px\; padding: 0px\; border: 0px\; font-style: italic\; font-stretch: inherit\; line-height: inherit\; vertical-align: baseline\; box-sizing: border-box\; caret-color: rgb(0\, 0\, 0)\; color: rgb(0\, 0\, 0)\; orphans: 2\; widows: 2\;">[The Albany Area Chamber may postpone or reschedule events at its discretion.]</span></span></span><span style="font-family: Calibri\, sans-serif\;"><o:p></o:p></span></p>\n</div>\n
LOCATION:On the Bricks at Thronateeska 100 W. Roosevelt Avenue Albany\, Georgia
UID:e.857.15405
SEQUENCE:3
DTSTAMP:20260422T181704Z
URL:https://business.albanyga.com/events/details/113th-annual-meeting-of-the-albany-area-chamber-15405
END:VEVENT

END:VCALENDAR
