BEGIN:VCALENDAR
VERSION:2.0
PRODID:-//ChamberMaster//Event Calendar 2.0//EN
METHOD:PUBLISH
X-PUBLISHED-TTL:P3D
REFRESH-INTERVAL:P3D
CALSCALE:GREGORIAN
BEGIN:VEVENT
DTSTART:20250421T220000Z
DTEND:20250422T010000Z
X-MICROSOFT-CDO-ALLDAYEVENT:FALSE
SUMMARY:115th Annual Meeting of the Albany Area Chamber
DESCRIPTION:It's time to get your dancing shoes ready\, Albany!\n\nThe 115th Annual Meeting of the Albany Area Chamber of Commerce is almost here\, and this year\, we're Dancin' in the Street!\n\nDate: Monday\, April 21\n\nTime: 6:00 p.m. - 9:00 p.m.\n\nLocation: The 100 block of Pine Avenue | Albany\n\nTickets: www.albanyga.com/events\n\nJoin us for a night filled with unforgettable fun\, live entertainment\, and a celebration of our amazing community. It's going to be a night to remember as we gather to connect\, build\, influence\, and lead all while kicking up our heels on the 100 block of Pine Avenue in the beautiful Downtown Albany\, Georgia.\n\nMark your calendars and get ready to party in the streets with us! Let's make this one for the books!
X-ALT-DESC;FMTTYPE=text/html:<div style="box-sizing: border-box\; font-variant-ligatures: normal\; orphans: 2\; widows: 2\;">\n<p style="caret-color: rgb(0\, 0\, 0)\; color: rgb(0\, 0\, 0)\; font-family: &quot\;Times New Roman&quot\;\, serif\; font-size: medium\; margin-right: 0in\; margin-left: 0in\; margin-bottom: 12pt\;"><span data-teams="true">It&#39\;s time to get your dancing shoes ready\, Albany!</span></p>\n\n<p><span data-teams="true">The 115th Annual Meeting of the Albany Area Chamber of Commerce is almost here\, and this year\, we&rsquo\;re Dancin&rsquo\; in the Street!</span></p>\n\n<p><span data-teams="true">Date: Monday\, April 21<br />\nTime: 6:00 p.m. - 9:00 p.m.<br />\nLocation: The 100 block of Pine Avenue | Albany<br />\nTickets: <a aria-label="Link www.albanyga.com/events" class="fui-Link ___1q1shib f2hkw1w f3rmtva f1ewtqcl fyind8e f1k6fduh f1w7gpdv fk6fouc fjoy568 figsok6 f1s184ao f1mk8lai fnbmjn9 f1o700av f13mvf36 f1cmlufx f9n3di6 f1ids18y f1tx3yz7 f1deo86v f1eh06m1 f1iescvh fhgqx19 f1olyrje f1p93eir f1nev41a f1h8hb77 f1lqvz6u f10aw75t fsle3fq f17ae5zn" href="http://www.albanyga.com/events?fbclid=IwZXh0bgNhZW0CMTAAAR2-wZE_dLU1i1CIubSfuQ7gZR2bHR30F24961K7XGWxIP4-MNHmJ2EXnlw_aem_jbbmbKbCt2A4a8NY5kuziw" id="menur7k" rel="noreferrer noopener" target="_blank" title="http://www.albanyga.com/events?fbclid=iwzxh0bgnhzw0cmtaaar2-wze_dlu1i1ciubsfuq7gzr2bhr30f24961k7xgwxip4-mnhmj2exnlw_aem_jbbmbkbct2a4a8ny5kuziw"><strong>www.albanyga.com/events</strong></a></span></p>\n\n<p><span data-teams="true">Join us for a night filled with unforgettable fun\, live entertainment\, and a celebration of our amazing community. It&rsquo\;s going to be a night to remember as we gather to connect\, build\, influence\, and lead&mdash\;all while kicking up our heels on the 100 block of Pine Avenue in the beautiful <a aria-label="Link Downtown Albany\, Georgia" class="fui-Link ___1q1shib f2hkw1w f3rmtva f1ewtqcl fyind8e f1k6fduh f1w7gpdv fk6fouc fjoy568 figsok6 f1s184ao f1mk8lai fnbmjn9 f1o700av f13mvf36 f1cmlufx f9n3di6 f1ids18y f1tx3yz7 f1deo86v f1eh06m1 f1iescvh fhgqx19 f1olyrje f1p93eir f1nev41a f1h8hb77 f1lqvz6u f10aw75t fsle3fq f17ae5zn" href="https://www.facebook.com/visitdowntownalbany?__cft__[0]=AZU-3QfLSN2LgaWJiARlxfH_tH_3u91LWE1MKTeWXBbQK4mF823uWn2kk4Vf1LKPwTaYdUn3FfSYTXIX6Uem7FlduCC2I-hgi7ZGe6H58Z3qy7G9xywT8KWqqznerEl89Hak_5HnxL2_nb5_eK52St2u9EyWu0q5SW8w6jTfbhCCyqvJ3-Z3iRmrRa1ODr1nzaQ&amp\;__tn__=-]K-R" id="menur7n" rel="noreferrer noopener" target="_blank" title="https://www.facebook.com/visitdowntownalbany?__cft__[0]=azu-3qflsn2lgawjiarlxfh_th_3u91lwe1mktewxbbqk4mf823uwn2kk4vf1lkpwtaydun3ffsytxix6uem7flducc2i-hgi7zge6h58z3qy7g9xywt8kwqqznerel89hak_5hnxl2_nb5_ek52st2u9eywu0q5sw8w6jtfbhccyqvj3-z3irmrra1odr1nzaq&amp\;__tn__=-]k-r"><strong>Downtown Albany\, Georgia</strong></a>.</span></p>\n\n<p><span data-teams="true">Mark your calendars and get ready to party in the streets with us! Let&rsquo\;s make this one for the books!</span></p>\n\n<p style="caret-color: rgb(0\, 0\, 0)\; color: rgb(0\, 0\, 0)\; font-family: &quot\;Times New Roman&quot\;\, serif\; font-size: medium\; margin-right: 0in\; margin-left: 0in\; margin-bottom: 12pt\;"><span style="font-family: Calibri\, sans-serif\;"><o:p></o:p></span></p>\n</div>\n
LOCATION:The 100 block of Pine Avenue Albany\, Georgia
UID:e.857.16634
SEQUENCE:3
DTSTAMP:20260424T121710Z
URL:https://business.albanyga.com/events/details/115th-annual-meeting-of-the-albany-area-chamber-16634
END:VEVENT

END:VCALENDAR
