BEGIN:VCALENDAR
VERSION:2.0
PRODID:-//ChamberMaster//Event Calendar 2.0//EN
METHOD:PUBLISH
X-PUBLISHED-TTL:P3D
REFRESH-INTERVAL:P3D
CALSCALE:GREGORIAN
BEGIN:VEVENT
DTSTART:20180524T213000Z
DTEND:20180524T230000Z
X-MICROSOFT-CDO-ALLDAYEVENT:FALSE
SUMMARY:2018 Legislative Reception
DESCRIPTION:You are invited to join the Albany Area Chamber of Commerce Legislative Affairs Committee as we honor our legislators for a successful 2018 session. This event is structured reception-style\, giving attendees the chance to enjoy refreshments while networking with state legislative leaders and decision-makers.
X-ALT-DESC;FMTTYPE=text/html:<font color="#36495f" face="arial\, sans-serif"><span style="font-size: 14px\;">You are invited to join the Albany Area Chamber of Commerce Legislative Affairs Committee as we honor our legislators for a successful 2018 session. This event is structured reception-style\, giving attendees the chance to enjoy refreshments while networking with state legislative leaders and decision-makers.</span></font>
LOCATION:The Coach House | 1308 Dawson Road | Albany
UID:e.857.14809
SEQUENCE:3
DTSTAMP:20260422T023548Z
URL:https://business.albanyga.com/events/details/2018-legislative-reception-14809
END:VEVENT

END:VCALENDAR
