BEGIN:VCALENDAR
VERSION:2.0
PRODID:-//ChamberMaster//Event Calendar 2.0//EN
METHOD:PUBLISH
X-PUBLISHED-TTL:P3D
REFRESH-INTERVAL:P3D
CALSCALE:GREGORIAN
BEGIN:VEVENT
DTSTART:20211023T160000Z
DTEND:20211024T020000Z
X-MICROSOFT-CDO-ALLDAYEVENT:FALSE
SUMMARY:2021 Modern Gas Rib Showdown
DESCRIPTION:Modern Gas Company is hosting the 2021 Annual Rib Showdown competition on Saturday\, October 23\, with all proceeds benefiting the Junior League of Albany\, Georgia. Teams of backyard bar-be-que rib masters will put their rib cooking skills to the test as they compete for the first\, second and third place category titles. The event will feature entertainment from area bands\, local food truck vendors\, a cash bar\, fun activities for kids\, a cornhole tournament and more. The grilling competition begins at noon with activities lasting until 10 p.m. Admission is free. Families and individuals are welcome to bring their own cooler for a $10 cooler fee. Raffle tickets will be sold for a chance to win one of many prizes from our retail suppliers. For more information about Rib Showdown\, please call 229-435-6116. 2021 MODERN GAS RIB SHOWDOWN Saturday\, October 23\, noon   10 p.m. 1335 US Hwy 82W\, Leesburg\, GA
X-ALT-DESC;FMTTYPE=text/html:Modern Gas Company is hosting the 2021 Annual Rib Showdown competition on Saturday\, October 23\, with all proceeds benefiting the Junior League of Albany\, Georgia. Teams of backyard bar-be-que rib masters will put their rib cooking skills to the test as they compete for the first\, second and third place category titles. The event will feature entertainment from area bands\, local food truck vendors\, a cash bar\, fun activities for kids\, a cornhole tournament and more. The grilling competition begins at noon with activities lasting until 10 p.m. Admission is free. Families and individuals are welcome to bring their own cooler for a $10 cooler fee. Raffle tickets will be sold for a chance to win one of many prizes from our retail suppliers. For more information about Rib Showdown\, please call 229-435-6116. 2021 MODERN GAS RIB SHOWDOWN Saturday\, October 23\, noon &ndash\; 10 p.m. 1335 US Hwy 82W\, Leesburg\, GA
LOCATION:1335 US Hwy 82W\, Leesburg\, GA
UID:e.857.15296
SEQUENCE:3
DTSTAMP:20260425T161935Z
URL:https://business.albanyga.com/events/details/2021-modern-gas-rib-showdown-15296
END:VEVENT

END:VCALENDAR
