BEGIN:VCALENDAR
VERSION:2.0
PRODID:-//ChamberMaster//Event Calendar 2.0//EN
METHOD:PUBLISH
X-PUBLISHED-TTL:P3D
REFRESH-INTERVAL:P3D
CALSCALE:GREGORIAN
BEGIN:VEVENT
DTSTART:20241107T123000Z
DTEND:20241107T140000Z
X-MICROSOFT-CDO-ALLDAYEVENT:FALSE
SUMMARY:2024 Government Affairs Rise N Shine Breakfast
DESCRIPTION:Make plans to join us on November 7 for the 2024 Government Affairs Rise N' Shine Breakfast\, featuring Georgia Insurance and Fire Safety Commissioner John King. This event\, presented by Albany Air Conditioning & Heating Co. and Webb Properties\, kicks off at 7:30 a.m. with networking at Doublegate Country Club.\n\n \n\nCommissioner King\, who regulates Georgia's insurance industry\, has committed to pro-business insurance reform\, making this program particularly relevant for our insurance members and those running vehicle fleets. His insights and updates on the latest developments in the industry and upcoming legislative session will be invaluable. Commissioner King is a staunch advocate for lawsuit abuse reform\, emphasizing its importance in maintaining Georgia's competitive edge as a prime location for business. He and Gov. Brian Kemp have indicated reform as top priorities for the 2025 legislative session. He has strong ties to Southwest Georgia\, too\; he was raised in Albany and is a proud graduate of Albany High School.\n\n \n\nDon't miss this opportunity to engage with Commissioner King and gain a deeper \n\nunderstanding of the changes and initiatives that could impact your business.\n\n\n\nDuring the program we'll hear from leadership and share the Albany Area Chamber's 2025 legislative priorities.
X-ALT-DESC;FMTTYPE=text/html:<p style="margin-top: 0px\; margin-bottom: 0px\;"><span style="font-family:arial\;"><span style="font-size:12px\;"><strong><span style="border: 0px\; font-stretch: inherit\; line-height: inherit\; font-size-adjust: inherit\; font-kerning: inherit\; font-variant-alternates: inherit\; font-variant-ligatures: inherit\; font-variant-numeric: inherit\; font-variant-east-asian: inherit\; font-variant-position: inherit\; font-feature-settings: inherit\; font-optical-sizing: inherit\; font-variation-settings: inherit\; margin: 0px\; padding: 0px\; vertical-align: baseline\;"><font color="#050505"><span style="caret-color: rgb(36\, 36\, 36)\; font-style: inherit\; font-variant-caps: inherit\; font-weight: inherit\;">Make plans to join us on November 7 for the 2024 Government Affairs Rise N&rsquo\; Shine Breakfast\, featuring Georgia Insurance and Fire Safety Commissioner </span><span style="caret-color: rgb(36\, 36\, 36)\;">John</span><span style="caret-color: rgb(36\, 36\, 36)\; font-style: inherit\; font-variant-caps: inherit\; font-weight: inherit\;">&nbsp\;King.&nbsp\;</span></font></span></strong></span></span><span style="caret-color: rgb(36\, 36\, 36)\; color: black\; font-style: inherit\; font-variant-caps: inherit\; font-size: 12px\; font-family: arial\;">This event\, presented by <a href="https://albanyair.com">Albany Air Conditioning &amp\; Heating Co</a>. and<a href="https://www.webbproperties.com"> Webb Properties</a>\, kicks off at 7:30 a.m. with networking at Doublegate Country Club.</span></p>\n\n<div aria-hidden="true" style="font-size: 12pt\; border: 0px\; font-stretch: inherit\; line-height: inherit\; font-family: Calibri\, Helvetica\, sans-serif\; font-size-adjust: inherit\; font-kerning: inherit\; font-variant-alternates: inherit\; font-variant-ligatures: inherit\; font-variant-numeric: inherit\; font-variant-east-asian: inherit\; font-variant-position: inherit\; font-feature-settings: inherit\; font-optical-sizing: inherit\; font-variation-settings: inherit\; margin: 0px\; padding: 0px\; vertical-align: baseline\; color: black\;"><span style="font-family:arial\;"><span style="font-size:12px\;">&nbsp\;</span></span></div>\n\n<div style="font-size: 12pt\; border: 0px\; font-stretch: inherit\; line-height: inherit\; font-family: Calibri\, Helvetica\, sans-serif\; font-size-adjust: inherit\; font-kerning: inherit\; font-variant-alternates: inherit\; font-variant-ligatures: inherit\; font-variant-numeric: inherit\; font-variant-east-asian: inherit\; font-variant-position: inherit\; font-feature-settings: inherit\; font-optical-sizing: inherit\; font-variation-settings: inherit\; margin: 0px\; padding: 0px\; vertical-align: baseline\; color: rgb(36\, 36\, 36)\; caret-color: rgb(36\, 36\, 36)\;"><span style="font-family:arial\;"><span style="font-size:12px\;"><span style="border: 0px\; font-style: inherit\; font-variant-caps: inherit\; font-stretch: inherit\; line-height: inherit\; font-size-adjust: inherit\; font-kerning: inherit\; font-variant-alternates: inherit\; font-variant-ligatures: inherit\; font-variant-numeric: inherit\; font-variant-east-asian: inherit\; font-variant-position: inherit\; font-feature-settings: inherit\; font-optical-sizing: inherit\; font-variation-settings: inherit\; margin: 0px\; padding: 0px\; vertical-align: baseline\; color: rgb(0\, 176\, 240)\;"><b><u><a data-auth="Verified" data-linkindex="1" href="https://nam10.safelinks.protection.outlook.com/?url=https%3A%2F%2Foci.georgia.gov%2Fabout-us%2Fjohn-f-king&amp\;data=05%7C02%7CBHolmes%40albanyga.com%7C6e278e39acd646486a0108dcfa9a4b41%7C8de87f1a7cfc44a7af360b98475dc6ee%7C0%7C0%7C638660787839556766%7CUnknown%7CTWFpbGZsb3d8eyJWIjoiMC4wLjAwMDAiLCJQIjoiV2luMzIiLCJBTiI6Ik1haWwiLCJXVCI6Mn0%3D%7C0%7C%7C%7C&amp\;sdata=KwpseFRBCUQDnp1F0MUZlCuc1brk3ufQcFF6kkkGUns%3D&amp\;reserved=0" id="OWA92b8eaa6-4679-a2df-45bf-5058f22020a0" originalsrc="https://oci.georgia.gov/about-us/john-f-king" rel="noopener noreferrer" shash="UrmR8NQpjK9dNMb//SwxSePkqGusUvzABu5k0u6LqGKbhLAuXvk7vk9KBjbvDZZ8nfWmmjWfmE11Y578bzG6e63wdvufbmvs87C44d/ZLvBFV72UtsbSok3XrtnGM1TiKZzl5Miep4TuCgKmd/a91Ne4vUYX/AMswoOYObnpzE4=" style="border: 0px\; font-style: inherit\; font-variant-caps: inherit\; font-weight: inherit\; font-stretch: inherit\; font-size: inherit\; line-height: inherit\; font-family: inherit\; font-size-adjust: inherit\; font-kerning: inherit\; font-variant-alternates: inherit\; font-variant-ligatures: inherit\; font-variant-numeric: inherit\; font-variant-east-asian: inherit\; font-variant-position: inherit\; font-feature-settings: inherit\; font-optical-sizing: inherit\; font-variation-settings: inherit\; margin: 0px\; padding: 0px\; vertical-align: baseline\; color: rgb(0\, 176\, 240)\;" target="_blank" title="Original URL: https://oci.georgia.gov/about-us/john-f-king. Click or tap if you trust this link.">Commissioner King</a></u></b></span><span style="border: 0px\; font-style: inherit\; font-variant-caps: inherit\; font-stretch: inherit\; line-height: inherit\; font-size-adjust: inherit\; font-kerning: inherit\; font-variant-alternates: inherit\; font-variant-ligatures: inherit\; font-variant-numeric: inherit\; font-variant-east-asian: inherit\; font-variant-position: inherit\; font-feature-settings: inherit\; font-optical-sizing: inherit\; font-variation-settings: inherit\; margin: 0px\; padding: 0px\; vertical-align: baseline\; color: black\;"><b>\, who regulates Georgia&rsquo\;s insurance industry\, has committed to pro-business insurance reform\, making this program particularly relevant for our insurance members and those running vehicle fleets.</b>&nbsp\;His insights and updates on the latest developments in the industry and upcoming legislative session will be invaluable. Commissioner King is a staunch advocate for lawsuit abuse reform\, emphasizing its importance in maintaining Georgia&rsquo\;s competitive edge as a prime location for business<b>. He and Gov. Brian Kemp have indicated reform as top priorities for the 2025 legislative session.&nbsp\;</b>He<b>&nbsp\;</b>has strong ties to Southwest Georgia\, too\; he was raised in Albany and is a proud graduate of Albany High School.</span></span></span></div>\n\n<div aria-hidden="true" style="font-size: 12pt\; border: 0px\; font-stretch: inherit\; line-height: inherit\; font-family: Calibri\, Helvetica\, sans-serif\; font-size-adjust: inherit\; font-kerning: inherit\; font-variant-alternates: inherit\; font-variant-ligatures: inherit\; font-variant-numeric: inherit\; font-variant-east-asian: inherit\; font-variant-position: inherit\; font-feature-settings: inherit\; font-optical-sizing: inherit\; font-variation-settings: inherit\; margin: 0px\; padding: 0px\; vertical-align: baseline\; color: black\;"><span style="font-family:arial\;"><span style="font-size:12px\;">&nbsp\;</span></span></div>\n\n<div style="font-size: 12pt\; border: 0px\; font-stretch: inherit\; line-height: inherit\; font-family: Calibri\, Helvetica\, sans-serif\; font-size-adjust: inherit\; font-kerning: inherit\; font-variant-alternates: inherit\; font-variant-ligatures: inherit\; font-variant-numeric: inherit\; font-variant-east-asian: inherit\; font-variant-position: inherit\; font-feature-settings: inherit\; font-optical-sizing: inherit\; font-variation-settings: inherit\; margin: 0px\; padding: 0px\; vertical-align: baseline\; color: black\;"><span style="font-family:arial\;"><span style="font-size:12px\;">Don&rsquo\;t miss this opportunity to engage with Commissioner King and gain a deeper&nbsp\;</span></span></div>\n\n<div style="font-size: 12pt\; border: 0px\; font-stretch: inherit\; line-height: inherit\; font-family: Calibri\, Helvetica\, sans-serif\; font-size-adjust: inherit\; font-kerning: inherit\; font-variant-alternates: inherit\; font-variant-ligatures: inherit\; font-variant-numeric: inherit\; font-variant-east-asian: inherit\; font-variant-position: inherit\; font-feature-settings: inherit\; font-optical-sizing: inherit\; font-variation-settings: inherit\; margin: 0px\; padding: 0px\; vertical-align: baseline\; color: black\;"><span style="font-family:arial\;"><span style="font-size:12px\;">understanding of the changes and initiatives that could impact your business.</span></span></div>\n\n<p style="margin-top: 0px\; margin-bottom: 0px\;"><br />\n<span style="font-family:arial\;"><span style="font-size:12px\;"><span style="caret-color: rgb(36\, 36\, 36)\; color: rgb(5\, 5\, 5)\; border: 0px\; font-style: inherit\; font-variant-caps: inherit\; font-stretch: inherit\; line-height: inherit\; font-size-adjust: inherit\; font-kerning: inherit\; font-variant-alternates: inherit\; font-variant-ligatures: inherit\; font-variant-numeric: inherit\; font-variant-east-asian: inherit\; font-variant-position: inherit\; font-feature-settings: inherit\; font-optical-sizing: inherit\; font-variation-settings: inherit\; margin: 0px\; padding: 0px\; vertical-align: baseline\;">During the program we&#39\;ll hear from&nbsp\;leadership and share the Albany Area Chamber&#39\;s 2025 legislative priorities.</span></span></span></p>\n\n<p style="caret-color: rgb(36\, 36\, 36)\; color: rgb(36\, 36\, 36)\; font-family: &quot\;Segoe UI&quot\;\, &quot\;Segoe UI Web (West European)&quot\;\, &quot\;Segoe UI&quot\;\, -apple-system\, BlinkMacSystemFont\, Roboto\, &quot\;Helvetica Neue&quot\;\, sans-serif\; font-size: 15px\; margin-top: 0px\; margin-bottom: 0px\;"><span style="font-family:arial\;"><span style="font-size:12px\;"><span style="border: 0px\; font-style: inherit\; font-variant-caps: inherit\; font-stretch: inherit\; line-height: inherit\; font-size-adjust: inherit\; font-kerning: inherit\; font-variant-alternates: inherit\; font-variant-ligatures: inherit\; font-variant-numeric: inherit\; font-variant-east-asian: inherit\; font-variant-position: inherit\; font-feature-settings: inherit\; font-optical-sizing: inherit\; font-variation-settings: inherit\; margin: 0px\; padding: 0px\; vertical-align: baseline\; color: rgb(64\, 63\, 66)\;">&nbsp\;</span></span></span></p>\n
LOCATION:
UID:e.857.15551
SEQUENCE:3
DTSTAMP:20260424T212112Z
URL:https://business.albanyga.com/events/details/2024-government-affairs-rise-n-shine-breakfast-15551
END:VEVENT

END:VCALENDAR
