BEGIN:VCALENDAR
VERSION:2.0
PRODID:-//ChamberMaster//Event Calendar 2.0//EN
METHOD:PUBLISH
X-PUBLISHED-TTL:P3D
REFRESH-INTERVAL:P3D
CALSCALE:GREGORIAN
BEGIN:VEVENT
DTSTART:20250507T113000Z
DTEND:20250507T180000Z
X-MICROSOFT-CDO-ALLDAYEVENT:FALSE
SUMMARY:2025 Spring Salty Sandbagger Golf Tournament
DESCRIPTION:The Albany Area Chamber's Military Affairs Committee's Salty Sandbagger Golf Tournament celebrates the sport of golf and the relationship between Albany's Marines and Albany's business community. The tournament. We will be playing at River Point Golf Course in Albany. We're excited to see who will get to take the trophy home this year!
X-ALT-DESC;FMTTYPE=text/html:<font face="arial"><span style="font-size: 14px\;">The Albany Area Chamber&#39\;s Military Affairs Committee&#39\;s&nbsp\;Salty Sandbagger&nbsp\;Golf Tournament&nbsp\;celebrates the sport of golf and the relationship between Albany&#39\;s&nbsp\;Marines and Albany&#39\;s business&nbsp\;community. The tournament. We will be playing at River Point Golf Course in Albany. We&#39\;re excited to</span></font><span style="font-family: arial\; font-size: 14px\;">&nbsp\;see who will get to take the trophy home this year!</span><font face="arial">&nbsp\;&nbsp\;&nbsp\;&nbsp\;</font>
LOCATION:River Point Golf Course 801 River Pointe Drive Albany\, Georgia 31701
UID:e.857.16643
SEQUENCE:3
DTSTAMP:20260424T180505Z
URL:https://business.albanyga.com/events/details/2025-spring-salty-sandbagger-golf-tournament-16643
END:VEVENT

END:VCALENDAR
