BEGIN:VCALENDAR
VERSION:2.0
PRODID:-//ChamberMaster//Event Calendar 2.0//EN
METHOD:PUBLISH
X-PUBLISHED-TTL:P3D
REFRESH-INTERVAL:P3D
CALSCALE:GREGORIAN
BEGIN:VEVENT
DTSTART:20260519T210000Z
DTEND:20260519T230000Z
X-MICROSOFT-CDO-ALLDAYEVENT:FALSE
SUMMARY:2026 May Business After Hours
DESCRIPTION:MIX IT UP at March's Business After Hours\, sponsored by M|G Home a modern gas company. This is a fantastic opportunity to network with fellow business professionals.\n\n\n\nDon't forget to bring your business cards to enter a drawing for a $100 cash prize.\n\n\n\n\nDon't miss out on this unique chance to connect with the local business community in a fun and dynamic setting.
X-ALT-DESC;FMTTYPE=text/html:<div class="xdj266r x11i5rnm xat24cr x1mh8g0r x1vvkbs x126k92a" style="white-space-collapse: preserve\; margin: 0px\; overflow-wrap: break-word\; font-family: system-ui\, -apple-system\, &quot\;system-ui&quot\;\, &quot\;.SFNSText-Regular&quot\;\, sans-serif\; color: rgb(5\, 5\, 5)\; font-size: 15px\;">\n<div dir="auto" style="font-family: inherit\;">MIX IT UP at March&#39\;s Business After Hours\, sponsored by M|G Home a modern gas company. <span class="ui-provider ed bnf bng bnh bni bnj bnk bnl bnm bnn bno bnp bnq bnr bns bnt bnu bnv bnw bnx bny bnz boa bob boc bod boe bof bog boh boi boj bok bol bom" dir="ltr">This is a fantastic opportunity to network with fellow business professionals.</span></div>\n</div>\n\n<div class="x11i5rnm xat24cr x1mh8g0r x1vvkbs xtlvy1s x126k92a" style="white-space-collapse: preserve\; margin: 0.5em 0px 0px\; overflow-wrap: break-word\; font-family: system-ui\, -apple-system\, &quot\;system-ui&quot\;\, &quot\;.SFNSText-Regular&quot\;\, sans-serif\; color: rgb(5\, 5\, 5)\; font-size: 15px\;">\n<div dir="auto" style="font-family: inherit\;">Don&#39\;t forget to bring your business cards to enter a drawing for a $100 cash prize.</div>\n</div>\n\n<div class="x11i5rnm xat24cr x1mh8g0r x1vvkbs xtlvy1s x126k92a" style="white-space-collapse: preserve\; margin: 0.5em 0px 0px\; overflow-wrap: break-word\; font-family: system-ui\, -apple-system\, &quot\;system-ui&quot\;\, &quot\;.SFNSText-Regular&quot\;\, sans-serif\; color: rgb(5\, 5\, 5)\; font-size: 15px\;">\n<div dir="auto" style="font-family: inherit\;">\n<p><span class="ui-provider ed bnf bng bnh bni bnj bnk bnl bnm bnn bno bnp bnq bnr bns bnt bnu bnv bnw bnx bny bnz boa bob boc bod boe bof bog boh boi boj bok bol bom" dir="ltr">Don&#39\;t miss out on this unique chance to connect with the local business community in a fun and dynamic setting. </span></p>\n</div>\n</div>\n
LOCATION:1335 US-82 Leesburg\, GA 31763
UID:e.857.16752
SEQUENCE:3
DTSTAMP:20260421T101758Z
URL:https://business.albanyga.com/events/details/2026-may-business-after-hours-16752
END:VEVENT

END:VCALENDAR
