BEGIN:VCALENDAR
VERSION:2.0
PRODID:-//ChamberMaster//Event Calendar 2.0//EN
METHOD:PUBLISH
X-PUBLISHED-TTL:P3D
REFRESH-INTERVAL:P3D
CALSCALE:GREGORIAN
BEGIN:VEVENT
DTSTART:20250206T113000Z
DTEND:20250206T131500Z
X-MICROSOFT-CDO-ALLDAYEVENT:FALSE
SUMMARY:48th Mayor's Prayer Breakfast
DESCRIPTION:All scripture is God-breathed and is useful for teaching\, rebuking\, correcting and training in righteousness\, so that the servant of God may be thoroughly equipped for every good work. 2nd Timothy 3:16-17\n\nTheme: Led by His Spirit\, Guided by God's Word to Abundant Life.
X-ALT-DESC;FMTTYPE=text/html:All scripture is God-breathed and is useful for teaching\, rebuking\, correcting and training in righteousness\, so that the servant of God may be thoroughly equipped for every good work. 2nd Timothy 3:16-17<br />\nTheme: Led by His Spirit\, Guided by God&#39\;s Word to Abundant Life.
LOCATION:Sherwood Baptist Church Fellowship Building Corner of Whispering Pines and Doncaster Drive Albany\, GA 31707
UID:e.857.16611
SEQUENCE:3
DTSTAMP:20260423T214917Z
URL:https://business.albanyga.com/events/details/48th-mayor-s-prayer-breakfast-16611
END:VEVENT

END:VCALENDAR
