BEGIN:VCALENDAR
VERSION:2.0
PRODID:-//ChamberMaster//Event Calendar 2.0//EN
METHOD:PUBLISH
X-PUBLISHED-TTL:P3D
REFRESH-INTERVAL:P3D
CALSCALE:GREGORIAN
BEGIN:VEVENT
DTSTART:20220312T160000Z
DTEND:20220312T173000Z
X-MICROSOFT-CDO-ALLDAYEVENT:FALSE
SUMMARY:5th Annual Come HUB With US
DESCRIPTION:5th Annual Sickle Cell Awareness Meeting with Patient Advocate Monica entitled "Come HUB With US" is a resource event for patients living with Sickle Cell and their network. The presenters are Dr. Lori Vick\, Travis Spencer and Toriana Blade. There are vendors and sponsors.
X-ALT-DESC;FMTTYPE=text/html:5th Annual Sickle Cell Awareness Meeting with Patient Advocate Monica entitled &quot\;Come HUB With US&quot\; is a resource event for patients living with Sickle Cell and their network. The presenters are Dr. Lori Vick\, Travis Spencer and Toriana Blade. There are vendors and sponsors.
LOCATION:230 South Jackson Street Albany\, GA 31701
UID:e.857.15334
SEQUENCE:3
DTSTAMP:20260426T001431Z
URL:https://business.albanyga.com/events/details/5th-annual-come-hub-with-us-15334
END:VEVENT

END:VCALENDAR
