BEGIN:VCALENDAR
VERSION:2.0
PRODID:-//ChamberMaster//Event Calendar 2.0//EN
METHOD:PUBLISH
X-PUBLISHED-TTL:P3D
REFRESH-INTERVAL:P3D
CALSCALE:GREGORIAN
BEGIN:VEVENT
DTSTART:20231116T230000Z
DTEND:20231117T010000Z
X-MICROSOFT-CDO-ALLDAYEVENT:FALSE
SUMMARY:Albany Area Chamber Business Awards 2023
DESCRIPTION:Join us as we honor the excellence in business achievement and the community contributions that make Albany and the Albany Area a better place to live and work. \n\n \n\nAt the November 9 Albany Area Chamber Business Awards reception\, we will celebrate this year's awards finalists and recognize the 2023 Small Business of the Year\, Nonprofit of the Year\, Women-owned Business of the Year\, Veteran-owned Business of the Year and the Uniquely Albany award recipients.\n\n \n\nFor ticket and sponsorship information\, contact Mary Bickerstaff or call (229) 434-8700.
X-ALT-DESC;FMTTYPE=text/html:<p style="text-size-adjust: auto\; -webkit-font-smoothing: antialiased\; box-sizing: border-box\; margin: 0px\; color: rgb(36\, 36\, 36)\; font-family: &quot\;Segoe UI&quot\;\, system-ui\, &quot\;Apple Color Emoji&quot\;\, &quot\;Segoe UI Emoji&quot\;\, sans-serif\; font-size: 12px\;"><span style="font-size:14px\;"><span style="font-family:arial\;"><span style="-webkit-font-smoothing: antialiased\; box-sizing: border-box\; color: rgb(0\, 0\, 0)\;">Join us as we honor the excellence in business achievement and the community contributions that make Albany and the Albany Area a better place to live and work.&nbsp\;</span></span></span></p>\n\n<p style="text-size-adjust: auto\; -webkit-font-smoothing: antialiased\; box-sizing: border-box\; margin: 0px\; color: rgb(36\, 36\, 36)\; font-family: &quot\;Segoe UI&quot\;\, system-ui\, &quot\;Apple Color Emoji&quot\;\, &quot\;Segoe UI Emoji&quot\;\, sans-serif\; font-size: 14px\;">&nbsp\;</p>\n\n<p style="text-size-adjust: auto\; -webkit-font-smoothing: antialiased\; box-sizing: border-box\; margin: 0px\; color: rgb(36\, 36\, 36)\; font-family: &quot\;Segoe UI&quot\;\, system-ui\, &quot\;Apple Color Emoji&quot\;\, &quot\;Segoe UI Emoji&quot\;\, sans-serif\; font-size: 12px\;"><span style="font-size:14px\;"><span style="font-family:arial\;"><span style="caret-color: rgb(0\, 0\, 0)\; color: rgb(0\, 0\, 0)\;">At the November 9&nbsp\;Albany Area Chamber Business Awards&nbsp\;reception\, we will celebrate this year&#39\;s awards finalists and recognize the 2023&nbsp\;Small Business of the Year\, Nonprofit of the Year\, Women-owned Business of the Year\, Veteran-owned Business of the Year and&nbsp\;the&nbsp\;Uniquely Albany award recipients.</span></span></span></p>\n\n<p style="text-size-adjust: auto\; -webkit-font-smoothing: antialiased\; box-sizing: border-box\; margin: 0px\; color: rgb(36\, 36\, 36)\; font-family: &quot\;Segoe UI&quot\;\, system-ui\, &quot\;Apple Color Emoji&quot\;\, &quot\;Segoe UI Emoji&quot\;\, sans-serif\; font-size: 14px\;">&nbsp\;</p>\n\n<p style="text-size-adjust: auto\; -webkit-font-smoothing: antialiased\; box-sizing: border-box\; margin: 0px\; color: rgb(36\, 36\, 36)\; font-family: &quot\;Segoe UI&quot\;\, system-ui\, &quot\;Apple Color Emoji&quot\;\, &quot\;Segoe UI Emoji&quot\;\, sans-serif\; font-size: 12px\;"><span style="font-size:14px\;"><span style="font-family:arial\;"><span style="-webkit-font-smoothing: antialiased\; box-sizing: border-box\; color: rgb(0\, 0\, 0)\;">For ticket and sponsorship information\, contact</span><a aria-label="Link &nbsp\;Mary Bickerstaff" href="mailto:mbickerstaff@albanyga.com" rel="noopener noreferrer" style="color: rgb(98\, 100\, 167)\; -webkit-font-smoothing: antialiased\; box-sizing: border-box\; background-color: transparent\; outline-style: none\; text-decoration-line: none\;" tabindex="-1" target="_blank" title="mailto:mbickerstaff@albanyga.com"><span style="-webkit-font-smoothing: antialiased\; box-sizing: border-box\;">&nbsp\;</span>Mary Bickerstaff</a><span style="-webkit-font-smoothing: antialiased\; box-sizing: border-box\;">&nbsp\;</span><span style="-webkit-font-smoothing: antialiased\; box-sizing: border-box\; color: rgb(0\, 0\, 0)\;">or call (229) 434-8700.</span></span></span></p>\n
LOCATION:Albany Municipal Auditorium 200 N. Jackson Street Albany\, GA 31701
UID:e.857.15484
SEQUENCE:3
DTSTAMP:20260422T213439Z
URL:https://business.albanyga.com/events/details/albany-area-chamber-business-awards-2023-15484
END:VEVENT

END:VCALENDAR
