BEGIN:VCALENDAR
VERSION:2.0
PRODID:-//ChamberMaster//Event Calendar 2.0//EN
METHOD:PUBLISH
X-PUBLISHED-TTL:P3D
REFRESH-INTERVAL:P3D
CALSCALE:GREGORIAN
BEGIN:VEVENT
DTSTART:20231108T140000Z
DTEND:20231108T220000Z
X-MICROSOFT-CDO-ALLDAYEVENT:FALSE
SUMMARY:Albany Area Political Leadership Institute 2023-24
DESCRIPTION:This registration is for participants accepted into the 2023-24 cohort of the Albany Area Political Leadership Institute\, a nonpartisan program of the Albany Area Chamber of Commerce.
X-ALT-DESC;FMTTYPE=text/html:This registration is for participants accepted into the 2023-24 cohort of the Albany Area Political Leadership Institute\, a nonpartisan program of the Albany Area Chamber of Commerce.
LOCATION:Albany Area Chamber\, Board Room 225 West Broad Ave. Albany\, GA 31701
UID:e.857.15490
SEQUENCE:3
DTSTAMP:20260422T213532Z
URL:https://business.albanyga.com/events/details/albany-area-political-leadership-institute-2023-24-15490
END:VEVENT

END:VCALENDAR
