BEGIN:VCALENDAR
VERSION:2.0
PRODID:-//ChamberMaster//Event Calendar 2.0//EN
METHOD:PUBLISH
X-PUBLISHED-TTL:P3D
REFRESH-INTERVAL:P3D
CALSCALE:GREGORIAN
BEGIN:VEVENT
DTSTART:20220409T220000Z
DTEND:20220410T160000Z
X-MICROSOFT-CDO-ALLDAYEVENT:FALSE
SUMMARY:Albany State University
DESCRIPTION:This year's premier event is the Blue and Gold Scholarship Gala benefitting Albany State University. Put on your best white-inspired\, garden chic attire and dance the night away at the Garden Tent Party - En Blanc. Proceeds from the event will help provide a variety of scholarships for admitted students. Purchase your tickets or become a sponsor today!
X-ALT-DESC;FMTTYPE=text/html:This year&#39\;s premier event is the Blue and Gold Scholarship Gala benefitting Albany State University. Put on your best white-inspired\, garden chic attire and dance the night away at the Garden Tent Party - En Blanc. Proceeds from the event will help provide a variety of scholarships for admitted students. Purchase your tickets or become a sponsor today!
LOCATION:L. Orene Hall building lawn located on East Campus Saturday\, April 9 at 6 p.m.
UID:e.857.15350
SEQUENCE:3
DTSTAMP:20260426T015236Z
URL:https://business.albanyga.com/events/details/albany-state-university-15350
END:VEVENT

END:VCALENDAR
