BEGIN:VCALENDAR
VERSION:2.0
PRODID:-//ChamberMaster//Event Calendar 2.0//EN
METHOD:PUBLISH
X-PUBLISHED-TTL:P3D
REFRESH-INTERVAL:P3D
CALSCALE:GREGORIAN
BEGIN:VEVENT
DTSTART:20260129T230000Z
DTEND:20260130T010000Z
X-MICROSOFT-CDO-ALLDAYEVENT:FALSE
SUMMARY:AU40 Kickoff Event
DESCRIPTION:Welcome to AU40 Presented by Synovus  where the next generation of leaders connects\, grows\, and has a little fun along the way!\n\nAU40 brings together ambitious young professionals who are shaping the future of our community. Whether you're here to build your network\, enhance your leadership skills\, or simply meet like-minded peers\, you'll find your place with us.\n\nWe've got an exciting lineup to kick off the year:\n\nJanuary: Vision Board Kickoff & Launch Social   Set your goals\, spark your creativity\, and start the year with intention.
X-ALT-DESC;FMTTYPE=text/html:<p data-end="194" data-start="81" style="caret-color: rgb(0\, 0\, 0)\;"><strong data-end="192" data-start="81">Welcome to AU40 Presented by Synovus&mdash\; where the next generation of leaders connects\, grows\, and has a little fun along the way!</strong></p>\n\n<p data-end="459" data-start="196" style="caret-color: rgb(0\, 0\, 0)\;">AU40 brings together ambitious young professionals who are shaping the future of our community. Whether you&rsquo\;re here to build your network\, enhance your leadership skills\, or simply meet like-minded peers\, you&rsquo\;ll find your place with us.</p>\n\n<p data-end="511" data-start="461" style="caret-color: rgb(0\, 0\, 0)\;">We&rsquo\;ve got an exciting lineup to kick off the year:</p>\n\n<p data-end="511" data-start="461" style="caret-color: rgb(0\, 0\, 0)\;"><strong data-end="564" data-start="515">January: Vision Board Kickoff &amp\; Launch Social</strong>&nbsp\;&mdash\; Set your goals\, spark your creativity\, and start the year with intention.</p>\n
LOCATION:The Flint 112 Pine Avenue Albany\, GA
UID:e.857.16718
SEQUENCE:3
DTSTAMP:20260421T163108Z
URL:https://business.albanyga.com/events/details/au40-kickoff-event-16718
END:VEVENT

END:VCALENDAR
