BEGIN:VCALENDAR
VERSION:2.0
PRODID:-//ChamberMaster//Event Calendar 2.0//EN
METHOD:PUBLISH
X-PUBLISHED-TTL:P3D
REFRESH-INTERVAL:P3D
CALSCALE:GREGORIAN
BEGIN:VEVENT
DTSTART:20240426T230000Z
DTEND:20240427T030000Z
X-MICROSOFT-CDO-ALLDAYEVENT:FALSE
SUMMARY:Bark at the Moon
DESCRIPTION:Bark at the Moon is Albany Humane Society's annual auction benefit. This year you can enjoy the PAWesome venue\, Pretoria Fields Brewing\, food catered by San Joe's Mexican Grill\, music and an auction. It'll be a night of fun-raising for animals in our community who do not have a voice. So they can stay safe\, cared for\, and loved!
X-ALT-DESC;FMTTYPE=text/html:Bark at the Moon is Albany Humane Society&#39\;s annual auction benefit. This year you can enjoy the PAWesome venue\, Pretoria Fields Brewing\, food catered by San Joe&#39\;s Mexican Grill\, music and an auction. It&#39\;ll be a night of fun-raising for animals in our community who do not have a voice. So they can stay safe\, cared for\, and loved!
LOCATION:Pretoria Fields Brewing\, 120 Pine Ave\, Albany\, GA 31701
UID:e.857.15541
SEQUENCE:3
DTSTAMP:20260422T134336Z
URL:https://business.albanyga.com/events/details/bark-at-the-moon-15541
END:VEVENT

END:VCALENDAR
