BEGIN:VCALENDAR
VERSION:2.0
PRODID:-//ChamberMaster//Event Calendar 2.0//EN
METHOD:PUBLISH
X-PUBLISHED-TTL:P3D
REFRESH-INTERVAL:P3D
CALSCALE:GREGORIAN
BEGIN:VEVENT
DTSTART:20220212T150000Z
DTEND:20220212T180000Z
X-MICROSOFT-CDO-ALLDAYEVENT:FALSE
SUMMARY:Book Signing Event - Andrew Curtis
DESCRIPTION:Book Signing Event with Andrew Curtis\n\nSaturday February 12\, 2022
X-ALT-DESC;FMTTYPE=text/html:Book Signing Event with Andrew Curtis<br />\nSaturday February 12\, 2022
LOCATION:Ann's Garden Center 1440 Gillionville Road Albany\, GA 31707
UID:e.857.15332
SEQUENCE:3
DTSTAMP:20260425T224211Z
URL:https://business.albanyga.com/events/details/book-signing-event-andrew-curtis-15332
END:VEVENT

END:VCALENDAR
