BEGIN:VCALENDAR
VERSION:2.0
PRODID:-//ChamberMaster//Event Calendar 2.0//EN
METHOD:PUBLISH
X-PUBLISHED-TTL:P3D
REFRESH-INTERVAL:P3D
CALSCALE:GREGORIAN
BEGIN:VEVENT
DTSTART:20111105T123000Z
DTEND:20111105T210000Z
X-MICROSOFT-CDO-ALLDAYEVENT:FALSE
SUMMARY:Bridges Out of Poverty Training
DESCRIPTION:Please join us as we learn how to guide families in poverty towards self-sufficiency\, through a program that will teach each participant the renowned "Circles" process. This ground-breaking process (as founded by Move the Mountain)\, incorporates the basic principles of shared access to social capital and the intentional befriending of just one family. It's easy: All you have to do is simply share your values\, life-experiences\, and the ever-simple "Golden Rule."\n\n\n\nA continental breakfast\, lunch and educational materials will be provided as part of\n\nyour registration fee. You will also participate in a life-altering poverty simulation\n\nsession that is certain to change perspectives\, open eyes\, and create an awareness\n\nthat will be everlasting.
X-ALT-DESC;FMTTYPE=text/html:Please join us as we learn how to guide families in poverty towards self-sufficiency\, through a program that will teach each participant the renowned &quot\;Circles&quot\; process. This ground-breaking process (as founded by Move the Mountain)\, incorporates the basic principles of shared access to social capital and the intentional befriending of just one family. It&#39\;s easy: All you have to do is simply share your values\, life-experiences\, and the ever-simple &ldquo\;Golden Rule.&rdquo\;<br />\n<br />\nA continental breakfast\, lunch and educational materials will be provided as part of<br />\nyour registration fee. You will also participate in a life-altering poverty simulation<br />\nsession that is certain to change perspectives\, open eyes\, and create an awareness<br />\nthat will be everlasting.
LOCATION:Phoebe Northwest Conference Center 2336 Dawson Road
UID:e.857.2274
SEQUENCE:3
DTSTAMP:20260423T173659Z
URL:https://business.albanyga.com/events/details/bridges-out-of-poverty-training-11-05-2011-2274
END:VEVENT

END:VCALENDAR
