BEGIN:VCALENDAR
VERSION:2.0
PRODID:-//ChamberMaster//Event Calendar 2.0//EN
METHOD:PUBLISH
X-PUBLISHED-TTL:P3D
REFRESH-INTERVAL:P3D
CALSCALE:GREGORIAN
BEGIN:VEVENT
DTSTART;VALUE=DATE:20040921
DTEND;VALUE=DATE:20040922
TRANSP:TRANSPARENT
X-MICROSOFT-CDO-ALLDAYEVENT:TRUE
SUMMARY:Buffalo Rock BAH
DESCRIPTION:
X-ALT-DESC;FMTTYPE=text/html:
LOCATION:
UID:e.857.371
SEQUENCE:3
DTSTAMP:20260425T111136Z
URL:https://business.albanyga.com/events/details/buffalo-rock-bah-09-21-2004-371
END:VEVENT

END:VCALENDAR
