BEGIN:VCALENDAR
VERSION:2.0
PRODID:-//ChamberMaster//Event Calendar 2.0//EN
METHOD:PUBLISH
X-PUBLISHED-TTL:P3D
REFRESH-INTERVAL:P3D
CALSCALE:GREGORIAN
BEGIN:VEVENT
DTSTART:20240716T210000Z
DTEND:20240716T230000Z
X-MICROSOFT-CDO-ALLDAYEVENT:FALSE
SUMMARY:Business After Hours July 2024
DESCRIPTION:MIX IT UP at July's Business After Hours\, sponsored by Flint River Entertainment Complex and WALB News 10! This special networking event will take place on July 16 from 5 P.M. to 7 P.M. at the Albany Civic Center\, located at 100 W. Oglethorpe Blvd.\n\n\n\nThis event is extra special as we will be kicking off the Olympics! Join us for an evening of Olympic-themed fun\, engaging conversations\, and valuable networking opportunities. And don't forget to bring your business cards to enter a drawing for a $100 cash prize\, generously sponsored by our friends at Colony Bank.\n\n\n\nMark your calendars and join us at the Albany Civic Center for an unforgettable evening of celebration\, networking\, and community spirit. We look forward to seeing you there!\n\n\n\nThis event is free\, but registration is requested. Register Here: https://bit.ly/45A3RKL
X-ALT-DESC;FMTTYPE=text/html:<div class="xdj266r x11i5rnm xat24cr x1mh8g0r x1vvkbs x126k92a" style="margin: 0px\; overflow-wrap: break-word\; white-space-collapse: preserve\; font-family: system-ui\, -apple-system\, &quot\;system-ui&quot\;\, &quot\;.SFNSText-Regular&quot\;\, sans-serif\; color: rgb(5\, 5\, 5)\; font-size: 15px\;">\n<div dir="auto" style="font-family: inherit\;">MIX IT UP at July&#39\;s Business After Hours\, sponsored by <span class="html-span xdj266r x11i5rnm xat24cr x1mh8g0r xexx8yu x4uap5 x18d9i69 xkhd6sd x1hl2dhg x16tdsg8 x1vvkbs" style="margin: 0px\; text-align: inherit\; overflow-wrap: break-word\; padding: 0px\; font-family: inherit\;"><a attributionsrc="/privacy_sandbox/comet/register/source/?xt=AZWgfxYoaXVDhWfD46kIKn3d7II5qM1CO76cejKKZpCvwz4EcFQHMojU5vAbVT4lnKUkImT7ZVXzFNqm9e5If6_3jPshZw56iXZJmMlt0PWiuQ6TcnIVOkY3fYB37XsaLnyzwB8QXwjfYiESgqLufdp_kS1xCeoM7H4BzOQEs3mfWZzWZGntGj8G9RQ8gx1ccotbejeTaPIAzRS2BwQmkTIPHKai9hd0VAembFIAzHKrwE2q96pse0TGk4GxsE8U9NKEGhLLVHdBdBNmbbOFzGbNqicA4QYpGOMBNBNta46PdBz0hwnMbsMtJSGk1mpy075M9oADssQO0zAQiDRYjRFxg9y2JekJcc8O7qpixoIesHtzIjA0SasGj_8UFXqKu7Lr44FisdfPdksEPm49bYoGN8YTIb7eq-Zk54ws8BDl9uELiHE0qSG73SQhLoTVQ_IgesRt-f4xF61IczBu54ksraeatNU38tpjCg-YCQfFgu7criPNlfBKsT8UD2y3A4xeB5uBHJGf6nUzLw4LfERXiTJjOTHIAjamu4PoDD2nQXs0A5rJOjDOqSKNjqn1zmXkRa0UTDM-9UVSQHW8Q0WlrUyk6F_vt3kMJbw4K_bEc_RVNCTqMp_cB2cesl7YKI86kLlYxDxbB7z9swBHi87FOPax_vlsO0VXl6bj3Zvbl7kzd8pgLAEzLnMQYN_pP-KgRtVbURcBZPjWN-YAW-35aZMJxlg1NrTV75GwfDNjTmsZpPwWsVJZE_iOwlKLWnFJSHFRywsmPUK3a_xt8lPAS1q0QTaiGISrm4k84JX2fg9oOV9vhRAskD2B_FmmrclUXuYL19tnbec7y4kd7lfsLgkmZN3kGQ5q2saqOvQ8q_E30EGohm2x2N6QoGKmbcBCKIxXFA-G-bKAP4JUx31KCzDlQspc4YkJUHyonD6eXA4SZRVT8vou3nhG3feT5TJCpRu8WsYpTNVMBE4xye-9M1aTzwEY7nT5FHj9j0x0oLaRadZj76PPSGINmiZ8nY4C5mdcr-ZzMjLn9bBtAWcGMfrA7bLvxlScCChnnBKIgtCXn-oeb3TmICMzoyzHedK7sx0jB5Vhb_rZ9EI-ucxX_3ls0QEDqel3zBZI2E1HwqmG2xuWwjzIk2vo4TtCrYI_RB69kGnPg4e7luEHlPXMv4GVtIgwA8pJN5pRM5NVz3JcbPg01E6hDl63bZGLtlPk_DcWmYbEhzd_gq_coFm35zVOVRmdn7kTBAk1L7FpnrIfvZTxX0Z4wsybItSFaFe5MAvSfQzwja3cdrKo9xzWsbtwBdB9Hcl-fNvqA9Xc0qEFg2RPz1JcqMCKIKznHuH4Mk7lfP8Rh3o9pliKxQH8mvHfsw9aAIFLOLxzYwzFxYzhgVpB16bv34GzJuAz8L81FjyieN24bGxu7qPXEKDmxvHS7gRGSTbMVXB_LTSL-G65ttEvyUKknLe-b048syK7hso8SPvpEO4eMmtJgn1mdW0frm_QIFCYBbsYI1NEJD8L6vgAdQJkSGE0gwZQOKry1-V4NOHvAm0R-oYqPlAK4c5lPoDsEj1uiALK1pwqD2N9WPHWrrNYVBnCYODATLegC7K9cyJ-w2oc0NodPEA2Gn4aPBcvPmEgHDqUGBouJ4errrobJ-m_j7RDtm-GNfrKtEFEofWlWzskyRYFbIfJrJy49-cMAngKeDkdq6iaztV3zq2jHt9gJsMBcZm10wq7i4GfGJJ3gwvlM_Suu8PiSxqhYudMT5sXQZXdadXWWyAgAUxxmliiRUYhuMdEP9NzMS4RJk--CpwtlUkQBZBCo9HMt8R41_dIkGVleIKn5YDzykNu5vQbFtzOm666NKCyHZUJEF5hujknESURLeZy3gdeffRRC_guCOzu5MsGhMNF1AuCZgT4BFnEhwf_ctIdo6GeLtjOBnEjZy76WPI5zYs4RpHjGA4hkOFQqoFEaxA9W3GH4ZLNHHhAQT_-ihUdZLPgsuwG11GvcfHPN2GlBHJa62w5yXg7cibMya2CWMnJB-e86fiLnlvd0QSvBO6O7teXDMUHMbwYB1Xyf6nk-QJgFeGQxlCA54em1qMdkg" class="x1i10hfl xjbqb8w x1ejq31n xd10rxx x1sy0etr x17r0tee x972fbf xcfux6l x1qhh985 xm0m39n x9f619 x1ypdohk xt0psk2 xe8uvvx xdj266r x11i5rnm xat24cr x1mh8g0r xexx8yu x4uap5 x18d9i69 xkhd6sd x16tdsg8 x1hl2dhg xggy1nq x1a2a7pz x1sur9pj xkrqix3 x1fey0fg xo1l8bm" href="https://www.facebook.com/theFREC?__cft__[0]=AZWeQB5FLTyuTCgFeuukcUl0TQ--v_OAHGO1eN3XF8hOhALBmclsQjsyjLryeZf0W5LLDJRKN2o0NGl7fRg9jc4kZeTEZDRcVwZ1pvGdDcVLxeCZND0moOitmZ8O6245DJR4bVWki6dYRqLgr5S3jsLgj6O6KdvXAWRrQ1pjOadzn_L5lM0-aJSeptPbHnD52SXeKLzHWVWpnnDH87joboZi&amp\;__tn__=-]K-R" role="link" style="color: var(--blue-link)\; cursor: pointer\; text-decoration-line: none\; outline: none\; list-style: none\; margin: 0px\; text-align: inherit\; border-style: none\; padding: 0px\; border-width: 0px\; box-sizing: border-box\; background-color: transparent\; -webkit-tap-highlight-color: transparent\; touch-action: manipulation\; display: inline\; font-family: inherit\;" tabindex="0"><span class="xt0psk2" style="display: inline\; font-family: inherit\;">Flint River Entertainment Complex</span></a></span> and <span class="html-span xdj266r x11i5rnm xat24cr x1mh8g0r xexx8yu x4uap5 x18d9i69 xkhd6sd x1hl2dhg x16tdsg8 x1vvkbs" style="margin: 0px\; text-align: inherit\; overflow-wrap: break-word\; padding: 0px\; font-family: inherit\;"><a attributionsrc="/privacy_sandbox/comet/register/source/?xt=AZWgfxYoaXVDhWfD46kIKn3d7II5qM1CO76cejKKZpCvwz4EcFQHMojU5vAbVT4lnKUkImT7ZVXzFNqm9e5If6_3jPshZw56iXZJmMlt0PWiuQ6TcnIVOkY3fYB37XsaLnyzwB8QXwjfYiESgqLufdp_kS1xCeoM7H4BzOQEs3mfWZzWZGntGj8G9RQ8gx1ccotbejeTaPIAzRS2BwQmkTIPHKai9hd0VAembFIAzHKrwE2q96pse0TGk4GxsE8U9NKEGhLLVHdBdBNmbbOFzGbNqicA4QYpGOMBNBNta46PdBz0hwnMbsMtJSGk1mpy075M9oADssQO0zAQiDRYjRFxg9y2JekJcc8O7qpixoIesHtzIjA0SasGj_8UFXqKu7Lr44FisdfPdksEPm49bYoGN8YTIb7eq-Zk54ws8BDl9uELiHE0qSG73SQhLoTVQ_IgesRt-f4xF61IczBu54ksraeatNU38tpjCg-YCQfFgu7criPNlfBKsT8UD2y3A4xeB5uBHJGf6nUzLw4LfERXiTJjOTHIAjamu4PoDD2nQXs0A5rJOjDOqSKNjqn1zmXkRa0UTDM-9UVSQHW8Q0WlrUyk6F_vt3kMJbw4K_bEc_RVNCTqMp_cB2cesl7YKI86kLlYxDxbB7z9swBHi87FOPax_vlsO0VXl6bj3Zvbl7kzd8pgLAEzLnMQYN_pP-KgRtVbURcBZPjWN-YAW-35aZMJxlg1NrTV75GwfDNjTmsZpPwWsVJZE_iOwlKLWnFJSHFRywsmPUK3a_xt8lPAS1q0QTaiGISrm4k84JX2fg9oOV9vhRAskD2B_FmmrclUXuYL19tnbec7y4kd7lfsLgkmZN3kGQ5q2saqOvQ8q_E30EGohm2x2N6QoGKmbcBCKIxXFA-G-bKAP4JUx31KCzDlQspc4YkJUHyonD6eXA4SZRVT8vou3nhG3feT5TJCpRu8WsYpTNVMBE4xye-9M1aTzwEY7nT5FHj9j0x0oLaRadZj76PPSGINmiZ8nY4C5mdcr-ZzMjLn9bBtAWcGMfrA7bLvxlScCChnnBKIgtCXn-oeb3TmICMzoyzHedK7sx0jB5Vhb_rZ9EI-ucxX_3ls0QEDqel3zBZI2E1HwqmG2xuWwjzIk2vo4TtCrYI_RB69kGnPg4e7luEHlPXMv4GVtIgwA8pJN5pRM5NVz3JcbPg01E6hDl63bZGLtlPk_DcWmYbEhzd_gq_coFm35zVOVRmdn7kTBAk1L7FpnrIfvZTxX0Z4wsybItSFaFe5MAvSfQzwja3cdrKo9xzWsbtwBdB9Hcl-fNvqA9Xc0qEFg2RPz1JcqMCKIKznHuH4Mk7lfP8Rh3o9pliKxQH8mvHfsw9aAIFLOLxzYwzFxYzhgVpB16bv34GzJuAz8L81FjyieN24bGxu7qPXEKDmxvHS7gRGSTbMVXB_LTSL-G65ttEvyUKknLe-b048syK7hso8SPvpEO4eMmtJgn1mdW0frm_QIFCYBbsYI1NEJD8L6vgAdQJkSGE0gwZQOKry1-V4NOHvAm0R-oYqPlAK4c5lPoDsEj1uiALK1pwqD2N9WPHWrrNYVBnCYODATLegC7K9cyJ-w2oc0NodPEA2Gn4aPBcvPmEgHDqUGBouJ4errrobJ-m_j7RDtm-GNfrKtEFEofWlWzskyRYFbIfJrJy49-cMAngKeDkdq6iaztV3zq2jHt9gJsMBcZm10wq7i4GfGJJ3gwvlM_Suu8PiSxqhYudMT5sXQZXdadXWWyAgAUxxmliiRUYhuMdEP9NzMS4RJk--CpwtlUkQBZBCo9HMt8R41_dIkGVleIKn5YDzykNu5vQbFtzOm666NKCyHZUJEF5hujknESURLeZy3gdeffRRC_guCOzu5MsGhMNF1AuCZgT4BFnEhwf_ctIdo6GeLtjOBnEjZy76WPI5zYs4RpHjGA4hkOFQqoFEaxA9W3GH4ZLNHHhAQT_-ihUdZLPgsuwG11GvcfHPN2GlBHJa62w5yXg7cibMya2CWMnJB-e86fiLnlvd0QSvBO6O7teXDMUHMbwYB1Xyf6nk-QJgFeGQxlCA54em1qMdkg" class="x1i10hfl xjbqb8w x1ejq31n xd10rxx x1sy0etr x17r0tee x972fbf xcfux6l x1qhh985 xm0m39n x9f619 x1ypdohk xt0psk2 xe8uvvx xdj266r x11i5rnm xat24cr x1mh8g0r xexx8yu x4uap5 x18d9i69 xkhd6sd x16tdsg8 x1hl2dhg xggy1nq x1a2a7pz x1sur9pj xkrqix3 x1fey0fg xo1l8bm" href="https://www.facebook.com/WALBNews10?__cft__[0]=AZWeQB5FLTyuTCgFeuukcUl0TQ--v_OAHGO1eN3XF8hOhALBmclsQjsyjLryeZf0W5LLDJRKN2o0NGl7fRg9jc4kZeTEZDRcVwZ1pvGdDcVLxeCZND0moOitmZ8O6245DJR4bVWki6dYRqLgr5S3jsLgj6O6KdvXAWRrQ1pjOadzn_L5lM0-aJSeptPbHnD52SXeKLzHWVWpnnDH87joboZi&amp\;__tn__=-]K-R" role="link" style="color: var(--blue-link)\; cursor: pointer\; text-decoration-line: none\; outline: none\; list-style: none\; margin: 0px\; text-align: inherit\; border-style: none\; padding: 0px\; border-width: 0px\; box-sizing: border-box\; background-color: transparent\; -webkit-tap-highlight-color: transparent\; touch-action: manipulation\; display: inline\; font-family: inherit\;" tabindex="0"><span class="xt0psk2" style="display: inline\; font-family: inherit\;">WALB News 10</span></a></span>! This special networking event will take place on July 16 from 5 P.M. to 7 P.M. at the Albany Civic Center\, located at 100 W. Oglethorpe Blvd.</div>\n</div>\n\n<div class="x11i5rnm xat24cr x1mh8g0r x1vvkbs xtlvy1s x126k92a" style="margin: 0.5em 0px 0px\; overflow-wrap: break-word\; white-space-collapse: preserve\; font-family: system-ui\, -apple-system\, &quot\;system-ui&quot\;\, &quot\;.SFNSText-Regular&quot\;\, sans-serif\; color: rgb(5\, 5\, 5)\; font-size: 15px\;">\n<div dir="auto" style="font-family: inherit\;">This event is extra special as we will be kicking off the Olympics! Join us for an evening of Olympic-themed fun\, engaging conversations\, and valuable networking opportunities. And don&#39\;t forget to bring your business cards to enter a drawing for a $100 cash prize\, generously sponsored by our friends at <span class="html-span xdj266r x11i5rnm xat24cr x1mh8g0r xexx8yu x4uap5 x18d9i69 xkhd6sd x1hl2dhg x16tdsg8 x1vvkbs" style="margin: 0px\; text-align: inherit\; overflow-wrap: break-word\; padding: 0px\; font-family: inherit\;"><a attributionsrc="/privacy_sandbox/comet/register/source/?xt=AZWgfxYoaXVDhWfD46kIKn3d7II5qM1CO76cejKKZpCvwz4EcFQHMojU5vAbVT4lnKUkImT7ZVXzFNqm9e5If6_3jPshZw56iXZJmMlt0PWiuQ6TcnIVOkY3fYB37XsaLnyzwB8QXwjfYiESgqLufdp_kS1xCeoM7H4BzOQEs3mfWZzWZGntGj8G9RQ8gx1ccotbejeTaPIAzRS2BwQmkTIPHKai9hd0VAembFIAzHKrwE2q96pse0TGk4GxsE8U9NKEGhLLVHdBdBNmbbOFzGbNqicA4QYpGOMBNBNta46PdBz0hwnMbsMtJSGk1mpy075M9oADssQO0zAQiDRYjRFxg9y2JekJcc8O7qpixoIesHtzIjA0SasGj_8UFXqKu7Lr44FisdfPdksEPm49bYoGN8YTIb7eq-Zk54ws8BDl9uELiHE0qSG73SQhLoTVQ_IgesRt-f4xF61IczBu54ksraeatNU38tpjCg-YCQfFgu7criPNlfBKsT8UD2y3A4xeB5uBHJGf6nUzLw4LfERXiTJjOTHIAjamu4PoDD2nQXs0A5rJOjDOqSKNjqn1zmXkRa0UTDM-9UVSQHW8Q0WlrUyk6F_vt3kMJbw4K_bEc_RVNCTqMp_cB2cesl7YKI86kLlYxDxbB7z9swBHi87FOPax_vlsO0VXl6bj3Zvbl7kzd8pgLAEzLnMQYN_pP-KgRtVbURcBZPjWN-YAW-35aZMJxlg1NrTV75GwfDNjTmsZpPwWsVJZE_iOwlKLWnFJSHFRywsmPUK3a_xt8lPAS1q0QTaiGISrm4k84JX2fg9oOV9vhRAskD2B_FmmrclUXuYL19tnbec7y4kd7lfsLgkmZN3kGQ5q2saqOvQ8q_E30EGohm2x2N6QoGKmbcBCKIxXFA-G-bKAP4JUx31KCzDlQspc4YkJUHyonD6eXA4SZRVT8vou3nhG3feT5TJCpRu8WsYpTNVMBE4xye-9M1aTzwEY7nT5FHj9j0x0oLaRadZj76PPSGINmiZ8nY4C5mdcr-ZzMjLn9bBtAWcGMfrA7bLvxlScCChnnBKIgtCXn-oeb3TmICMzoyzHedK7sx0jB5Vhb_rZ9EI-ucxX_3ls0QEDqel3zBZI2E1HwqmG2xuWwjzIk2vo4TtCrYI_RB69kGnPg4e7luEHlPXMv4GVtIgwA8pJN5pRM5NVz3JcbPg01E6hDl63bZGLtlPk_DcWmYbEhzd_gq_coFm35zVOVRmdn7kTBAk1L7FpnrIfvZTxX0Z4wsybItSFaFe5MAvSfQzwja3cdrKo9xzWsbtwBdB9Hcl-fNvqA9Xc0qEFg2RPz1JcqMCKIKznHuH4Mk7lfP8Rh3o9pliKxQH8mvHfsw9aAIFLOLxzYwzFxYzhgVpB16bv34GzJuAz8L81FjyieN24bGxu7qPXEKDmxvHS7gRGSTbMVXB_LTSL-G65ttEvyUKknLe-b048syK7hso8SPvpEO4eMmtJgn1mdW0frm_QIFCYBbsYI1NEJD8L6vgAdQJkSGE0gwZQOKry1-V4NOHvAm0R-oYqPlAK4c5lPoDsEj1uiALK1pwqD2N9WPHWrrNYVBnCYODATLegC7K9cyJ-w2oc0NodPEA2Gn4aPBcvPmEgHDqUGBouJ4errrobJ-m_j7RDtm-GNfrKtEFEofWlWzskyRYFbIfJrJy49-cMAngKeDkdq6iaztV3zq2jHt9gJsMBcZm10wq7i4GfGJJ3gwvlM_Suu8PiSxqhYudMT5sXQZXdadXWWyAgAUxxmliiRUYhuMdEP9NzMS4RJk--CpwtlUkQBZBCo9HMt8R41_dIkGVleIKn5YDzykNu5vQbFtzOm666NKCyHZUJEF5hujknESURLeZy3gdeffRRC_guCOzu5MsGhMNF1AuCZgT4BFnEhwf_ctIdo6GeLtjOBnEjZy76WPI5zYs4RpHjGA4hkOFQqoFEaxA9W3GH4ZLNHHhAQT_-ihUdZLPgsuwG11GvcfHPN2GlBHJa62w5yXg7cibMya2CWMnJB-e86fiLnlvd0QSvBO6O7teXDMUHMbwYB1Xyf6nk-QJgFeGQxlCA54em1qMdkg" class="x1i10hfl xjbqb8w x1ejq31n xd10rxx x1sy0etr x17r0tee x972fbf xcfux6l x1qhh985 xm0m39n x9f619 x1ypdohk xt0psk2 xe8uvvx xdj266r x11i5rnm xat24cr x1mh8g0r xexx8yu x4uap5 x18d9i69 xkhd6sd x16tdsg8 x1hl2dhg xggy1nq x1a2a7pz x1sur9pj xkrqix3 x1fey0fg xo1l8bm" href="https://www.facebook.com/colonybank?__cft__[0]=AZWeQB5FLTyuTCgFeuukcUl0TQ--v_OAHGO1eN3XF8hOhALBmclsQjsyjLryeZf0W5LLDJRKN2o0NGl7fRg9jc4kZeTEZDRcVwZ1pvGdDcVLxeCZND0moOitmZ8O6245DJR4bVWki6dYRqLgr5S3jsLgj6O6KdvXAWRrQ1pjOadzn_L5lM0-aJSeptPbHnD52SXeKLzHWVWpnnDH87joboZi&amp\;__tn__=-]K-R" role="link" style="color: var(--blue-link)\; cursor: pointer\; text-decoration-line: none\; outline: none\; list-style: none\; margin: 0px\; text-align: inherit\; border-style: none\; padding: 0px\; border-width: 0px\; box-sizing: border-box\; background-color: transparent\; -webkit-tap-highlight-color: transparent\; touch-action: manipulation\; display: inline\; font-family: inherit\;" tabindex="0"><span class="xt0psk2" style="display: inline\; font-family: inherit\;">Colony Bank</span></a></span>.</div>\n</div>\n\n<div class="x11i5rnm xat24cr x1mh8g0r x1vvkbs xtlvy1s x126k92a" style="margin: 0.5em 0px 0px\; overflow-wrap: break-word\; white-space-collapse: preserve\; font-family: system-ui\, -apple-system\, &quot\;system-ui&quot\;\, &quot\;.SFNSText-Regular&quot\;\, sans-serif\; color: rgb(5\, 5\, 5)\; font-size: 15px\;">\n<div dir="auto" style="font-family: inherit\;">Mark your calendars and join us at the Albany Civic Center for an unforgettable evening of celebration\, networking\, and community spirit. We look forward to seeing you there!</div>\n</div>\n\n<div class="x11i5rnm xat24cr x1mh8g0r x1vvkbs xtlvy1s x126k92a" style="margin: 0.5em 0px 0px\; overflow-wrap: break-word\; white-space-collapse: preserve\; font-family: system-ui\, -apple-system\, &quot\;system-ui&quot\;\, &quot\;.SFNSText-Regular&quot\;\, sans-serif\; color: rgb(5\, 5\, 5)\; font-size: 15px\;">\n<div dir="auto" style="font-family: inherit\;">This event is free\, but registration is requested. Register Here: <span class="html-span xdj266r x11i5rnm xat24cr x1mh8g0r xexx8yu x4uap5 x18d9i69 xkhd6sd x1hl2dhg x16tdsg8 x1vvkbs" style="margin: 0px\; text-align: inherit\; overflow-wrap: break-word\; padding: 0px\; font-family: inherit\;"><a attributionsrc="/privacy_sandbox/comet/register/source/?xt=AZWgfxYoaXVDhWfD46kIKn3d7II5qM1CO76cejKKZpCvwz4EcFQHMojU5vAbVT4lnKUkImT7ZVXzFNqm9e5If6_3jPshZw56iXZJmMlt0PWiuQ6TcnIVOkY3fYB37XsaLnyzwB8QXwjfYiESgqLufdp_kS1xCeoM7H4BzOQEs3mfWZzWZGntGj8G9RQ8gx1ccotbejeTaPIAzRS2BwQmkTIPHKai9hd0VAembFIAzHKrwE2q96pse0TGk4GxsE8U9NKEGhLLVHdBdBNmbbOFzGbNqicA4QYpGOMBNBNta46PdBz0hwnMbsMtJSGk1mpy075M9oADssQO0zAQiDRYjRFxg9y2JekJcc8O7qpixoIesHtzIjA0SasGj_8UFXqKu7Lr44FisdfPdksEPm49bYoGN8YTIb7eq-Zk54ws8BDl9uELiHE0qSG73SQhLoTVQ_IgesRt-f4xF61IczBu54ksraeatNU38tpjCg-YCQfFgu7criPNlfBKsT8UD2y3A4xeB5uBHJGf6nUzLw4LfERXiTJjOTHIAjamu4PoDD2nQXs0A5rJOjDOqSKNjqn1zmXkRa0UTDM-9UVSQHW8Q0WlrUyk6F_vt3kMJbw4K_bEc_RVNCTqMp_cB2cesl7YKI86kLlYxDxbB7z9swBHi87FOPax_vlsO0VXl6bj3Zvbl7kzd8pgLAEzLnMQYN_pP-KgRtVbURcBZPjWN-YAW-35aZMJxlg1NrTV75GwfDNjTmsZpPwWsVJZE_iOwlKLWnFJSHFRywsmPUK3a_xt8lPAS1q0QTaiGISrm4k84JX2fg9oOV9vhRAskD2B_FmmrclUXuYL19tnbec7y4kd7lfsLgkmZN3kGQ5q2saqOvQ8q_E30EGohm2x2N6QoGKmbcBCKIxXFA-G-bKAP4JUx31KCzDlQspc4YkJUHyonD6eXA4SZRVT8vou3nhG3feT5TJCpRu8WsYpTNVMBE4xye-9M1aTzwEY7nT5FHj9j0x0oLaRadZj76PPSGINmiZ8nY4C5mdcr-ZzMjLn9bBtAWcGMfrA7bLvxlScCChnnBKIgtCXn-oeb3TmICMzoyzHedK7sx0jB5Vhb_rZ9EI-ucxX_3ls0QEDqel3zBZI2E1HwqmG2xuWwjzIk2vo4TtCrYI_RB69kGnPg4e7luEHlPXMv4GVtIgwA8pJN5pRM5NVz3JcbPg01E6hDl63bZGLtlPk_DcWmYbEhzd_gq_coFm35zVOVRmdn7kTBAk1L7FpnrIfvZTxX0Z4wsybItSFaFe5MAvSfQzwja3cdrKo9xzWsbtwBdB9Hcl-fNvqA9Xc0qEFg2RPz1JcqMCKIKznHuH4Mk7lfP8Rh3o9pliKxQH8mvHfsw9aAIFLOLxzYwzFxYzhgVpB16bv34GzJuAz8L81FjyieN24bGxu7qPXEKDmxvHS7gRGSTbMVXB_LTSL-G65ttEvyUKknLe-b048syK7hso8SPvpEO4eMmtJgn1mdW0frm_QIFCYBbsYI1NEJD8L6vgAdQJkSGE0gwZQOKry1-V4NOHvAm0R-oYqPlAK4c5lPoDsEj1uiALK1pwqD2N9WPHWrrNYVBnCYODATLegC7K9cyJ-w2oc0NodPEA2Gn4aPBcvPmEgHDqUGBouJ4errrobJ-m_j7RDtm-GNfrKtEFEofWlWzskyRYFbIfJrJy49-cMAngKeDkdq6iaztV3zq2jHt9gJsMBcZm10wq7i4GfGJJ3gwvlM_Suu8PiSxqhYudMT5sXQZXdadXWWyAgAUxxmliiRUYhuMdEP9NzMS4RJk--CpwtlUkQBZBCo9HMt8R41_dIkGVleIKn5YDzykNu5vQbFtzOm666NKCyHZUJEF5hujknESURLeZy3gdeffRRC_guCOzu5MsGhMNF1AuCZgT4BFnEhwf_ctIdo6GeLtjOBnEjZy76WPI5zYs4RpHjGA4hkOFQqoFEaxA9W3GH4ZLNHHhAQT_-ihUdZLPgsuwG11GvcfHPN2GlBHJa62w5yXg7cibMya2CWMnJB-e86fiLnlvd0QSvBO6O7teXDMUHMbwYB1Xyf6nk-QJgFeGQxlCA54em1qMdkg" class="x1i10hfl xjbqb8w x1ejq31n xd10rxx x1sy0etr x17r0tee x972fbf xcfux6l x1qhh985 xm0m39n x9f619 x1ypdohk xt0psk2 xe8uvvx xdj266r x11i5rnm xat24cr x1mh8g0r xexx8yu x4uap5 x18d9i69 xkhd6sd x16tdsg8 x1hl2dhg xggy1nq x1a2a7pz x1sur9pj xkrqix3 x1fey0fg" href="https://bit.ly/45A3RKL?fbclid=IwZXh0bgNhZW0CMTAAAR174nej-nXyPFmjwyJwivPzukNDle89wWFWT_fjivLeZX8eRbTPKHkbQ18_aem_XnKbCUmDv89SdX09qLsZVg" rel="nofollow noreferrer" role="link" style="color: var(--blue-link)\; cursor: pointer\; text-decoration-line: none\; outline: none\; list-style: none\; margin: 0px\; text-align: inherit\; border-style: none\; padding: 0px\; border-width: 0px\; box-sizing: border-box\; background-color: transparent\; -webkit-tap-highlight-color: transparent\; touch-action: manipulation\; display: inline\; font-family: inherit\;" tabindex="0" target="_blank">https://bit.ly/45A3RKL</a></span></div>\n</div>\n
LOCATION:100 W. Oglethorpe Blvd. Albany\, GA
UID:e.857.15554
SEQUENCE:3
DTSTAMP:20260425T022340Z
URL:https://business.albanyga.com/events/details/business-after-hours-july-2024-15554
END:VEVENT

END:VCALENDAR
