BEGIN:VCALENDAR
VERSION:2.0
PRODID:-//ChamberMaster//Event Calendar 2.0//EN
METHOD:PUBLISH
X-PUBLISHED-TTL:P3D
REFRESH-INTERVAL:P3D
CALSCALE:GREGORIAN
BEGIN:VEVENT
DTSTART:20250318T210000Z
DTEND:20250318T230000Z
X-MICROSOFT-CDO-ALLDAYEVENT:FALSE
SUMMARY:Business After Hours March 2024
DESCRIPTION:Mix it up at the March 18\, 2025 Business After Hours hosted by\n\nPro Outdoor Landscape Management\n\nBAH is a casual networking event hosted\n\neach month by a member business.
X-ALT-DESC;FMTTYPE=text/html:<p align="center" style="margin: 0px\; padding: 0px\; caret-color: rgb(54\, 73\, 95)\; color: rgb(54\, 73\, 95)\; font-family: Arial\, Verdana\, Helvetica\, sans-serif\; font-size: 14px\; text-size-adjust: auto\; text-align: center\;"><span style="color: rgb(76\, 76\, 76)\;">Mix it up&nbsp\;at the March 18\, 2025&nbsp\;Business After Hours hosted by</span></p>\n\n<p align="center" style="margin: 0px\; padding: 0px\; caret-color: rgb(54\, 73\, 95)\; font-family: Arial\, Verdana\, Helvetica\, sans-serif\; font-size: 14px\; text-size-adjust: auto\; text-align: center\;"><font color="#4c4c4c">Pro Outdoor Landscape Management</font></p>\n\n<p align="center" style="margin: 0px\; padding: 0px\; caret-color: rgb(54\, 73\, 95)\; color: rgb(54\, 73\, 95)\; font-family: Arial\, Verdana\, Helvetica\, sans-serif\; font-size: 14px\; text-size-adjust: auto\; text-align: center\;"><span style="color: rgb(76\, 76\, 76)\; font-style: italic\;">BAH is a casual networking event hosted<br />\neach month by a member business. </span></p>\n
LOCATION:2719 Phillips Drive Albany\, GA
UID:e.857.16635
SEQUENCE:3
DTSTAMP:20260422T052254Z
URL:https://business.albanyga.com/events/details/business-after-hours-march-2024-16635
END:VEVENT

END:VCALENDAR
