BEGIN:VCALENDAR
VERSION:2.0
PRODID:-//ChamberMaster//Event Calendar 2.0//EN
METHOD:PUBLISH
X-PUBLISHED-TTL:P3D
REFRESH-INTERVAL:P3D
CALSCALE:GREGORIAN
BEGIN:VEVENT
DTSTART:20240725T100000Z
DTEND:20240726T230000Z
X-MICROSOFT-CDO-ALLDAYEVENT:FALSE
SUMMARY:Christmas in July
DESCRIPTION:ALL DAY Thursday July 25 from 6a-7p\, 102.1 Retro FM will present Christmas in July. Each hour\, we will play 1 Christmas song. When the song is played\, caller 5 will win the prize from that hour's sponsor. On Friday July 26\, all 14 winners will be placed in a hat and John Patrick will draw one winner who will receive a prize from ALL 14 SPONSORS plus the title sponsor. As a sponsor of Christmas in July on 102.1 Retro FM\, your business has the opportunity to be a part of this innovative promotion by sponsoring one of the hours and invite our listeners to your business throughout the last two weeks of July
X-ALT-DESC;FMTTYPE=text/html:ALL DAY Thursday July 25 from 6a-7p\, 102.1 Retro FM will present Christmas in July. Each hour\, we will play 1 Christmas song. When the song is played\, caller 5 will win the prize from that hour&rsquo\;s sponsor. On Friday July 26\, all 14 winners will be placed in a hat and John Patrick will draw one winner who will receive a prize from ALL 14 SPONSORS plus the title sponsor. As a sponsor of Christmas in July on 102.1 Retro FM\, your business has the opportunity to be a part of this innovative promotion by sponsoring one of the hours and invite our listeners to your business throughout the last two weeks of July
LOCATION:102.1 Retro FM
UID:e.857.15552
SEQUENCE:3
DTSTAMP:20260425T010405Z
URL:https://business.albanyga.com/events/details/christmas-in-july-15552
END:VEVENT

END:VCALENDAR
