BEGIN:VCALENDAR
VERSION:2.0
PRODID:-//ChamberMaster//Event Calendar 2.0//EN
METHOD:PUBLISH
X-PUBLISHED-TTL:P3D
REFRESH-INTERVAL:P3D
CALSCALE:GREGORIAN
BEGIN:VEVENT
DTSTART:20240724T140000Z
DTEND:20240724T163000Z
X-MICROSOFT-CDO-ALLDAYEVENT:FALSE
SUMMARY:Cost and Price Proposal Preparation
DESCRIPTION:This is a live class that will be taught in-person and on-line. If you wish to participate on-line\, you will need a high-speed Internet connection. There is a 50 seat limit on-site. This seminar is a must for anyone that will be preparing or is currently preparing responses to government contracting opportunities. Topics to be discussed include: contract types\, budgets\, fixed and variable costs\, overheads\, general and administrative (G&A) costs\, and profit.
X-ALT-DESC;FMTTYPE=text/html:This is a live class that will be taught in-person and on-line. If you wish to participate on-line\, you will need a high-speed Internet connection. There is a 50 seat limit on-site. This seminar is a must for anyone that will be preparing or is currently preparing responses to government contracting opportunities. Topics to be discussed include: contract types\, budgets\, fixed and variable costs\, overheads\, general and administrative (G&amp\;A) costs\, and profit.
LOCATION:230 South Jackson Street 1st Floor Conference Room Albany\, Georgia
UID:e.857.15556
SEQUENCE:3
DTSTAMP:20260425T010313Z
URL:https://business.albanyga.com/events/details/cost-and-price-proposal-preparation-15556
END:VEVENT

END:VCALENDAR
