BEGIN:VCALENDAR
VERSION:2.0
PRODID:-//ChamberMaster//Event Calendar 2.0//EN
METHOD:PUBLISH
X-PUBLISHED-TTL:P3D
REFRESH-INTERVAL:P3D
CALSCALE:GREGORIAN
BEGIN:VEVENT
DTSTART:20111202T170000Z
DTEND:20111105T170000Z
X-MICROSOFT-CDO-ALLDAYEVENT:FALSE
SUMMARY:Emerge Albany Committee Meeting
DESCRIPTION:To create a platform for young professionals to build relationships\, develop professionally\, become politically and philanthropically active\, and to contribute to the economic development of our community through networking events and cultural and community education.
X-ALT-DESC;FMTTYPE=text/html:To create a platform for young professionals to build relationships\, develop professionally\, become politically and philanthropically active\, and to contribute to the economic development of our community through networking events and cultural and community education.<span _fck_bookmark="1" style="display: none">&nbsp\;</span>
LOCATION:Albany Area Chamber of Commerce Board Room
UID:e.857.1809
SEQUENCE:3
DTSTAMP:20260423T190320Z
URL:https://business.albanyga.com/events/details/emerge-albany-committee-meeting-12-02-2011-1809
END:VEVENT

END:VCALENDAR
