BEGIN:VCALENDAR
VERSION:2.0
PRODID:-//ChamberMaster//Event Calendar 2.0//EN
METHOD:PUBLISH
X-PUBLISHED-TTL:P3D
REFRESH-INTERVAL:P3D
CALSCALE:GREGORIAN
BEGIN:VEVENT
DTSTART:20220324T153000Z
DTEND:20220324T160000Z
X-MICROSOFT-CDO-ALLDAYEVENT:FALSE
SUMMARY:Feeding the Valley Ribbon Cutting
DESCRIPTION:Join us for the \n\nFeeding the Valley Ribbon Cutting
X-ALT-DESC;FMTTYPE=text/html:Join us for the&nbsp\;<br />\nFeeding the Valley Ribbon Cutting
LOCATION:1706 Ledo Road Albany\, Georgia 31707
UID:e.857.15331
SEQUENCE:3
DTSTAMP:20260426T003108Z
URL:https://business.albanyga.com/events/details/feeding-the-valley-ribbon-cutting-15331
END:VEVENT

END:VCALENDAR
