BEGIN:VCALENDAR
VERSION:2.0
PRODID:-//ChamberMaster//Event Calendar 2.0//EN
METHOD:PUBLISH
X-PUBLISHED-TTL:P3D
REFRESH-INTERVAL:P3D
CALSCALE:GREGORIAN
BEGIN:VEVENT
DTSTART:20250228T153000Z
DTEND:20250228T180000Z
X-MICROSOFT-CDO-ALLDAYEVENT:FALSE
SUMMARY:Flex ABY Finals
DESCRIPTION:Join us on February 28\, 2025 at the unsinkable Albany State University's "Old Bookstore" for an inspiring morning where innovation meets entrepreneurship. The FLEX Finals celebrate the creativity and ambition of our young student entrepreneurs as they pitch their business ideas "Shark Tank Style" to a distinguished panel of judges to compete for a chance to participate in the statewide FLEX program.\n\nFLEX\, which stands for "Foundational Leadership and Entrepreneur X-perience\," is a statewide program designed to encourage innovation\, create prosperity\, and revitalize rural entrepreneurial ecosystems. Through a dynamic process that challenges students to develop and present their business ideas\, FLEX provides real-world experience and helps enhance essential skills such as accountability\, collaboration\, and creative thinking. Over the course of the competition\, participants learn firsthand about the challenges and rewards of starting and growing a business. After multiple rounds of competition\, the top 3 finalists have been chosen! It all comes down to this final moment and you're invited!\n\nEvent Highlights:\n\n\n	Inspiring Presentations: Witness innovative pitches from the brightest young minds.\n	Networking Opportunities: Connect with industry professionals\, community leaders\, and fellow supporters of emerging talent.\n	Delicious Lunch: Enjoy a delicious lunch immediately following the program provided on-site for $20.\n\n\nImportant Details:\n\n\n	Date: February 28\, 2025\n	Location: Albany State University West Campus Old Bookstore (next to the student center)\n	Seating: Limited seating is available reserve your spot early!\n\n\nDon't miss your chance to be part of this dynamic event that not only celebrates innovation but also nurtures the next generation of business leaders. Secure your ticket and join us for an unforgettable experience.\n\nWe look forward to seeing you at the FLEX Finals!
X-ALT-DESC;FMTTYPE=text/html:<p><span data-teams="true" style="caret-color: rgb(0\, 0\, 0)\; color: rgb(0\, 0\, 0)\;"><span class="ui-provider a b c d e f g h i j k l m n o p q r s t u v w x y z ab ac ae af ag ah ai aj ak" dir="ltr">Join us on&nbsp\;<strong>February 28\, 2025</strong>&nbsp\;at the unsinkable&nbsp\;<strong>Albany State University&#39\;s &quot\;Old Bookstore&quot\;</strong>&nbsp\;for an inspiring morning where innovation meets entrepreneurship. The FLEX Finals celebrate the creativity and ambition of our young student entrepreneurs as they pitch their business ideas &quot\;Shark Tank Style&quot\; to a distinguished panel of judges to compete for a chance to participate in the statewide FLEX program.</span></span></p>\n\n<p><span data-teams="true" style="caret-color: rgb(0\, 0\, 0)\; color: rgb(0\, 0\, 0)\;"><span class="ui-provider a b c d e f g h i j k l m n o p q r s t u v w x y z ab ac ae af ag ah ai aj ak" dir="ltr">FLEX\, which stands for &ldquo\;Foundational Leadership and Entrepreneur X-perience\,&rdquo\; is a statewide program designed to encourage innovation\, create prosperity\, and revitalize rural entrepreneurial ecosystems. Through a dynamic process that challenges students to develop and present their business ideas\, FLEX provides real-world experience and helps enhance essential skills such as accountability\, collaboration\, and creative thinking. Over the course of the competition\, participants learn firsthand about the challenges and rewards of starting and growing a business. After multiple rounds of competition\, the top 3 finalists have been chosen! It all comes down to this final moment and you&#39\;re invited!</span></span></p>\n\n<p><span data-teams="true" style="caret-color: rgb(0\, 0\, 0)\; color: rgb(0\, 0\, 0)\;"><span class="ui-provider a b c d e f g h i j k l m n o p q r s t u v w x y z ab ac ae af ag ah ai aj ak" dir="ltr"><strong>Event Highlights:</strong></span></span></p>\n\n<ul>\n	<li><span data-teams="true" style="caret-color: rgb(0\, 0\, 0)\; color: rgb(0\, 0\, 0)\;"><span class="ui-provider a b c d e f g h i j k l m n o p q r s t u v w x y z ab ac ae af ag ah ai aj ak" dir="ltr"><strong>Inspiring Presentations:</strong>&nbsp\;Witness innovative pitches from the brightest young minds.</span></span></li>\n	<li><span data-teams="true" style="caret-color: rgb(0\, 0\, 0)\; color: rgb(0\, 0\, 0)\;"><span class="ui-provider a b c d e f g h i j k l m n o p q r s t u v w x y z ab ac ae af ag ah ai aj ak" dir="ltr"><strong>Networking Opportunities:</strong>&nbsp\;Connect with industry professionals\, community leaders\, and fellow supporters of emerging talent.</span></span></li>\n	<li><span data-teams="true" style="caret-color: rgb(0\, 0\, 0)\; color: rgb(0\, 0\, 0)\;"><span class="ui-provider a b c d e f g h i j k l m n o p q r s t u v w x y z ab ac ae af ag ah ai aj ak" dir="ltr"><strong>Delicious Lunch:</strong>&nbsp\;Enjoy a delicious lunch immediately following the program provided on-site for&nbsp\;<strong>$20</strong>.</span></span></li>\n</ul>\n\n<p><span data-teams="true" style="caret-color: rgb(0\, 0\, 0)\; color: rgb(0\, 0\, 0)\;"><span class="ui-provider a b c d e f g h i j k l m n o p q r s t u v w x y z ab ac ae af ag ah ai aj ak" dir="ltr"><strong>Important Details:</strong></span></span></p>\n\n<ul>\n	<li><span data-teams="true" style="caret-color: rgb(0\, 0\, 0)\; color: rgb(0\, 0\, 0)\;"><span class="ui-provider a b c d e f g h i j k l m n o p q r s t u v w x y z ab ac ae af ag ah ai aj ak" dir="ltr"><strong>Date:</strong>&nbsp\;February 28\, 2025</span></span></li>\n	<li><span data-teams="true" style="caret-color: rgb(0\, 0\, 0)\; color: rgb(0\, 0\, 0)\;"><span class="ui-provider a b c d e f g h i j k l m n o p q r s t u v w x y z ab ac ae af ag ah ai aj ak" dir="ltr"><strong>Location:</strong>&nbsp\;Albany State University West Campus Old Bookstore (next to the student center)</span></span></li>\n	<li><span data-teams="true" style="caret-color: rgb(0\, 0\, 0)\; color: rgb(0\, 0\, 0)\;"><span class="ui-provider a b c d e f g h i j k l m n o p q r s t u v w x y z ab ac ae af ag ah ai aj ak" dir="ltr"><strong>Seating:</strong>&nbsp\;Limited seating is available&mdash\;reserve your spot early!</span></span></li>\n</ul>\n\n<p><span data-teams="true" style="caret-color: rgb(0\, 0\, 0)\; color: rgb(0\, 0\, 0)\;"><span class="ui-provider a b c d e f g h i j k l m n o p q r s t u v w x y z ab ac ae af ag ah ai aj ak" dir="ltr">Don&#39\;t miss your chance to be part of this dynamic event that not only celebrates innovation but also nurtures the next generation of business leaders. Secure your ticket and join us for an unforgettable experience.</span></span></p>\n\n<p><span data-teams="true" style="caret-color: rgb(0\, 0\, 0)\; color: rgb(0\, 0\, 0)\;"><span class="ui-provider a b c d e f g h i j k l m n o p q r s t u v w x y z ab ac ae af ag ah ai aj ak" dir="ltr">We look forward to seeing you at the FLEX Finals!</span></span></p>\n
LOCATION:Albany State University West Campus Old Bookstore (next to the student center)
UID:e.857.16638
SEQUENCE:3
DTSTAMP:20260424T121532Z
URL:https://business.albanyga.com/events/details/flex-aby-finals-16638
END:VEVENT

END:VCALENDAR
