BEGIN:VCALENDAR
VERSION:2.0
PRODID:-//ChamberMaster//Event Calendar 2.0//EN
METHOD:PUBLISH
X-PUBLISHED-TTL:P3D
REFRESH-INTERVAL:P3D
CALSCALE:GREGORIAN
BEGIN:VEVENT
DTSTART:20240920T153000Z
DTEND:20240920T230000Z
X-MICROSOFT-CDO-ALLDAYEVENT:FALSE
SUMMARY:Fundraiser Golf Tournament
DESCRIPTION:Fund raising event for Theatre Albany. Cash prizes
X-ALT-DESC;FMTTYPE=text/html:Fund raising event for Theatre Albany. Cash prizes
LOCATION:Stonebridge Golf Course
UID:e.857.16583
SEQUENCE:3
DTSTAMP:20260424T233820Z
URL:https://business.albanyga.com/events/details/fundraiser-golf-tournament-16583
END:VEVENT

END:VCALENDAR
