BEGIN:VCALENDAR
VERSION:2.0
PRODID:-//ChamberMaster//Event Calendar 2.0//EN
METHOD:PUBLISH
X-PUBLISHED-TTL:P3D
REFRESH-INTERVAL:P3D
CALSCALE:GREGORIAN
BEGIN:VEVENT
DTSTART:20241010T220000Z
DTEND:20241011T010000Z
X-MICROSOFT-CDO-ALLDAYEVENT:FALSE
SUMMARY:Gatsby Gala
DESCRIPTION:Travel back in time with the ASO at the beautiful Ocala House as we kick off our 24-25 Season with our "Gatsby Gala"! Don't miss out on a great evening! Live Jazz Band\, Dinner\, Cocktails and Silent Auction. BLACK TIE/COSTUMES OPTIONAL Get your advance tickets now at 229-430-8933 or albanysymphony.org.
X-ALT-DESC;FMTTYPE=text/html:Travel back in time with the ASO at the beautiful Ocala House as we kick off our 24-25 Season with our &quot\;Gatsby Gala&quot\;! Don&#39\;t miss out on a great evening! Live Jazz Band\, Dinner\, Cocktails and Silent Auction. BLACK TIE/COSTUMES OPTIONAL Get your advance tickets now at 229-430-8933 or albanysymphony.org.
LOCATION:The Ocala House 640 GA-32 Leesburg\, GA 31763
UID:e.857.16589
SEQUENCE:3
DTSTAMP:20260425T022104Z
URL:https://business.albanyga.com/events/details/gatsby-gala-16589
END:VEVENT

END:VCALENDAR
