BEGIN:VCALENDAR
VERSION:2.0
PRODID:-//ChamberMaster//Event Calendar 2.0//EN
METHOD:PUBLISH
X-PUBLISHED-TTL:P3D
REFRESH-INTERVAL:P3D
CALSCALE:GREGORIAN
BEGIN:VEVENT
DTSTART:20260121T150000Z
DTEND:20260121T160000Z
X-MICROSOFT-CDO-ALLDAYEVENT:FALSE
SUMMARY:GO SEE TOUR January 21\, 2026
DESCRIPTION:Join us for the \n\nGO SEE! TOUR
X-ALT-DESC;FMTTYPE=text/html:Join us for the&nbsp\;<br />\nGO SEE! TOUR
LOCATION:Phoebe Living & Learning Community 1000 N. Jefferson Street Albany\, GA
UID:e.857.16717
SEQUENCE:3
DTSTAMP:20260421T163226Z
URL:https://business.albanyga.com/events/details/go-see-tour-january-21-2026-16717
END:VEVENT

END:VCALENDAR
