BEGIN:VCALENDAR
VERSION:2.0
PRODID:-//ChamberMaster//Event Calendar 2.0//EN
METHOD:PUBLISH
X-PUBLISHED-TTL:P3D
REFRESH-INTERVAL:P3D
CALSCALE:GREGORIAN
BEGIN:VEVENT
DTSTART:20240718T140000Z
DTEND:20240718T150000Z
X-MICROSOFT-CDO-ALLDAYEVENT:FALSE
SUMMARY:Go See Tour July 2024
DESCRIPTION:The Go See! Tour is organized by the Albany Area Chamber of Commerce's Talent\, Education & Leadership Committee. We believe that an informed community leads to a more engaged community. These monthly tours of local schools promote educational awareness\, empower student career paths\, strengthen community engagement\, support school improvement initiatives and inspire business involvement.\n\n\n\nParticipation in the Go See! Tour is open exclusively to members of the Albany Area Chamber. We look forward to your participation in this exciting event on July 18th at Turner Job Corps. Registration is required: https://lnkd.in/ggn-sWqH
X-ALT-DESC;FMTTYPE=text/html:<span style="color: rgba(0\, 0\, 0\, 0.9)\; font-family: -apple-system\, system-ui\, system-ui\, &quot\;Segoe UI&quot\;\, Roboto\, &quot\;Helvetica Neue&quot\;\, &quot\;Fira Sans&quot\;\, Ubuntu\, Oxygen\, &quot\;Oxygen Sans&quot\;\, Cantarell\, &quot\;Droid Sans&quot\;\, &quot\;Apple Color Emoji&quot\;\, &quot\;Segoe UI Emoji&quot\;\, &quot\;Segoe UI Emoji&quot\;\, &quot\;Segoe UI Symbol&quot\;\, &quot\;Lucida Grande&quot\;\, Helvetica\, Arial\, sans-serif\; font-size: 14px\; font-variant-ligatures: normal\; orphans: 2\; widows: 2\; text-decoration-thickness: initial\; text-decoration-style: initial\; text-decoration-color: initial\;">The Go See! Tour is organized by the Albany Area Chamber of Commerce&rsquo\;s Talent\, Education &amp\; Leadership Committee. We believe that an informed community leads to a more engaged community. These monthly tours of local schools promote educational awareness\, empower student career paths\, strengthen community engagement\, support school improvement initiatives and inspire business involvement.</span><br style="box-sizing: inherit\; color: rgba(0\, 0\, 0\, 0.9)\; font-family: -apple-system\, system-ui\, system-ui\, &quot\;Segoe UI&quot\;\, Roboto\, &quot\;Helvetica Neue&quot\;\, &quot\;Fira Sans&quot\;\, Ubuntu\, Oxygen\, &quot\;Oxygen Sans&quot\;\, Cantarell\, &quot\;Droid Sans&quot\;\, &quot\;Apple Color Emoji&quot\;\, &quot\;Segoe UI Emoji&quot\;\, &quot\;Segoe UI Emoji&quot\;\, &quot\;Segoe UI Symbol&quot\;\, &quot\;Lucida Grande&quot\;\, Helvetica\, Arial\, sans-serif\; font-size: 14px\; font-variant-ligatures: normal\; orphans: 2\; widows: 2\; text-decoration-thickness: initial\; text-decoration-style: initial\; text-decoration-color: initial\; line-height: inherit !important\;" />\n<br style="box-sizing: inherit\; color: rgba(0\, 0\, 0\, 0.9)\; font-family: -apple-system\, system-ui\, system-ui\, &quot\;Segoe UI&quot\;\, Roboto\, &quot\;Helvetica Neue&quot\;\, &quot\;Fira Sans&quot\;\, Ubuntu\, Oxygen\, &quot\;Oxygen Sans&quot\;\, Cantarell\, &quot\;Droid Sans&quot\;\, &quot\;Apple Color Emoji&quot\;\, &quot\;Segoe UI Emoji&quot\;\, &quot\;Segoe UI Emoji&quot\;\, &quot\;Segoe UI Symbol&quot\;\, &quot\;Lucida Grande&quot\;\, Helvetica\, Arial\, sans-serif\; font-size: 14px\; font-variant-ligatures: normal\; orphans: 2\; widows: 2\; text-decoration-thickness: initial\; text-decoration-style: initial\; text-decoration-color: initial\; line-height: inherit !important\;" />\n<span style="color: rgba(0\, 0\, 0\, 0.9)\; font-family: -apple-system\, system-ui\, system-ui\, &quot\;Segoe UI&quot\;\, Roboto\, &quot\;Helvetica Neue&quot\;\, &quot\;Fira Sans&quot\;\, Ubuntu\, Oxygen\, &quot\;Oxygen Sans&quot\;\, Cantarell\, &quot\;Droid Sans&quot\;\, &quot\;Apple Color Emoji&quot\;\, &quot\;Segoe UI Emoji&quot\;\, &quot\;Segoe UI Emoji&quot\;\, &quot\;Segoe UI Symbol&quot\;\, &quot\;Lucida Grande&quot\;\, Helvetica\, Arial\, sans-serif\; font-size: 14px\; font-variant-ligatures: normal\; orphans: 2\; widows: 2\; text-decoration-thickness: initial\; text-decoration-style: initial\; text-decoration-color: initial\;">Participation in the Go See! Tour is open exclusively to members of the Albany Area Chamber. We look forward to your participation in this exciting event on July 18th at Turner Job Corps. Registration is required:&nbsp\;</span><a data-attribute-index="0" href="https://lnkd.in/ggn-sWqH" style="caret-color: rgb(0\, 0\, 0)\; box-sizing: inherit\; margin: var(--artdeco-reset-base-margin-zero)\; padding: var(--artdeco-reset-base-padding-zero)\; font-size: 14px\; vertical-align: var(--artdeco-reset-base-vertical-align-baseline)\; text-decoration: var(--artdeco-reset-link-text-decoration-none)\; border: var(--artdeco-reset-link-border-zero)\; color: var(--color-action)\; touch-action: manipulation\; position: relative\; word-break: normal\; overflow-wrap: normal\; font-family: -apple-system\, system-ui\, system-ui\, &quot\;Segoe UI&quot\;\, Roboto\, &quot\;Helvetica Neue&quot\;\, &quot\;Fira Sans&quot\;\, Ubuntu\, Oxygen\, &quot\;Oxygen Sans&quot\;\, Cantarell\, &quot\;Droid Sans&quot\;\, &quot\;Apple Color Emoji&quot\;\, &quot\;Segoe UI Emoji&quot\;\, &quot\;Segoe UI Emoji&quot\;\, &quot\;Segoe UI Symbol&quot\;\, &quot\;Lucida Grande&quot\;\, Helvetica\, Arial\, sans-serif\; font-variant-ligatures: normal\; orphans: 2\; widows: 2\; line-height: inherit !important\;" target="_self">https://lnkd.in/ggn-sWqH</a>
LOCATION:Turner Job Corps 2000 Schilling Avenue Albany\, GA 31707
UID:e.857.15500
SEQUENCE:3
DTSTAMP:20260425T010307Z
URL:https://business.albanyga.com/events/details/go-see-tour-july-2024-15500
END:VEVENT

END:VCALENDAR
