BEGIN:VCALENDAR
VERSION:2.0
PRODID:-//ChamberMaster//Event Calendar 2.0//EN
METHOD:PUBLISH
X-PUBLISHED-TTL:P3D
REFRESH-INTERVAL:P3D
CALSCALE:GREGORIAN
BEGIN:VEVENT
DTSTART:20240827T213000Z
DTEND:20240827T223000Z
X-MICROSOFT-CDO-ALLDAYEVENT:FALSE
SUMMARY:Grand Opening of the Living & Learning Community
DESCRIPTION:You are invited to the Grand Opening of the Living & Learning Community
X-ALT-DESC;FMTTYPE=text/html:You are invited to the Grand Opening of the Living &amp\; Learning Community
LOCATION:1000 N. Jefferson Street Albany\, GA
UID:e.857.15560
SEQUENCE:3
DTSTAMP:20260424T234042Z
URL:https://business.albanyga.com/events/details/grand-opening-of-the-living-learning-community-15560
END:VEVENT

END:VCALENDAR
