BEGIN:VCALENDAR
VERSION:2.0
PRODID:-//ChamberMaster//Event Calendar 2.0//EN
METHOD:PUBLISH
X-PUBLISHED-TTL:P3D
REFRESH-INTERVAL:P3D
CALSCALE:GREGORIAN
BEGIN:VEVENT
DTSTART:20250505T140000Z
DTEND:20250505T160000Z
X-MICROSOFT-CDO-ALLDAYEVENT:FALSE
SUMMARY:Grand Opening & Ribbon Cutting Ceremony Dr. Anthony O. Parker Transportation Academy
DESCRIPTION:Albany Technical College invites you to a \n\nGrand Opening and Ribbon Cutting Ceremony\n\nDr. Anthony O. Parker\n\nTransportation Academy
X-ALT-DESC;FMTTYPE=text/html:Albany Technical College invites you to a&nbsp\;<br />\nGrand Opening and Ribbon Cutting Ceremony<br />\nDr. Anthony O. Parker<br />\nTransportation Academy
LOCATION:Albany Technical College Campus
UID:e.857.16655
SEQUENCE:3
DTSTAMP:20260424T175338Z
URL:https://business.albanyga.com/events/details/grand-opening-ribbon-cutting-ceremony-dr-anthony-o-parker-transportation-academy-16655
END:VEVENT

END:VCALENDAR
