BEGIN:VCALENDAR
VERSION:2.0
PRODID:-//ChamberMaster//Event Calendar 2.0//EN
METHOD:PUBLISH
X-PUBLISHED-TTL:P3D
REFRESH-INTERVAL:P3D
CALSCALE:GREGORIAN
BEGIN:VEVENT
DTSTART:20250219T233000Z
DTEND:20250220T010000Z
X-MICROSOFT-CDO-ALLDAYEVENT:FALSE
SUMMARY:Harlem Nights "Reimagining the Dream"
DESCRIPTION:Join us in celebrating Black History Month with an inspiring message from keynote speaker Dr. Marlon Scott\, followed by a thought-provoking Youth Panel Discussion on their vision for "a movement" toward the future. Come together for an evening of rich conversation and community as we honor the past and reimagine a brighter tomorrow for generations to come.
X-ALT-DESC;FMTTYPE=text/html:Join us in celebrating Black History Month with an inspiring message from keynote speaker Dr. Marlon Scott\, followed by a thought-provoking Youth Panel Discussion on their vision for &quot\;a movement&quot\; toward the future. Come together for an evening of rich conversation and community as we honor the past and reimagine a brighter tomorrow for generations to come.
LOCATION:Albany Civil Rights Institute 326 W Whitney Ave\, Albany\, GA 31701
UID:e.857.16636
SEQUENCE:3
DTSTAMP:20260424T121633Z
URL:https://business.albanyga.com/events/details/harlem-nights-reimagining-the-dream-16636
END:VEVENT

END:VCALENDAR
