BEGIN:VCALENDAR
VERSION:2.0
PRODID:-//ChamberMaster//Event Calendar 2.0//EN
METHOD:PUBLISH
X-PUBLISHED-TTL:P3D
REFRESH-INTERVAL:P3D
CALSCALE:GREGORIAN
BEGIN:VEVENT
DTSTART;VALUE=DATE:20250317
DTEND;VALUE=DATE:20250401
TRANSP:TRANSPARENT
X-MICROSOFT-CDO-ALLDAYEVENT:TRUE
SUMMARY:Helping Mamas Albany Community Diaper Drive
DESCRIPTION:Help Us Create a Peachy Start for Every Baby Join us in our 1st Annual Spring Community Diaper Drive! We are determined to ensure that every baby in our community gets the fresh start they deserve. Diapers are a basic necessity\, yet many families face challenges in providing these essentials for their little ones. 1 in 2 U.S. families struggle to afford the diapers they need to keep a baby clean\, dry and healthy. From March 17th to March 31st\, we invite you to come together to support Georgia's families by donating diapers at various locations across the city. Your contributions will help lay the foundation for brighter futures\, ensuring that all babies can have a peachy start in life. Visit our website to find our drop-off locations or access our online wishlist to make a donation shipped directly to our warehouse.
X-ALT-DESC;FMTTYPE=text/html:Help Us Create a Peachy Start for Every Baby Join us in our 1st Annual Spring Community Diaper Drive! We are determined to ensure that every baby in our community gets the fresh start they deserve. Diapers are a basic necessity\, yet many families face challenges in providing these essentials for their little ones. 1 in 2 U.S. families struggle to afford the diapers they need to keep a baby clean\, dry and healthy. From March 17th to March 31st\, we invite you to come together to support Georgia&rsquo\;s families by donating diapers at various locations across the city. Your contributions will help lay the foundation for brighter futures\, ensuring that all babies can have a peachy start in life. Visit our website to find our drop-off locations or access our online wishlist to make a donation shipped directly to our warehouse.
LOCATION:1301 Dawson Rd Albany\, GA 31707
UID:e.857.16644
SEQUENCE:3
DTSTAMP:20260425T232921Z
URL:https://business.albanyga.com/events/details/helping-mamas-albany-community-diaper-drive-16644
END:VEVENT

END:VCALENDAR
