BEGIN:VCALENDAR
VERSION:2.0
PRODID:-//ChamberMaster//Event Calendar 2.0//EN
METHOD:PUBLISH
X-PUBLISHED-TTL:P3D
REFRESH-INTERVAL:P3D
CALSCALE:GREGORIAN
BEGIN:VEVENT
DTSTART:20250108T210000Z
DTEND:20250108T230000Z
X-MICROSOFT-CDO-ALLDAYEVENT:FALSE
SUMMARY:Hyperbaric Center Grand Opening
DESCRIPTION:Hyperbaric Center Grand Opening at Albany Vascular Specialist Center.
X-ALT-DESC;FMTTYPE=text/html:Hyperbaric Center Grand Opening at Albany Vascular Specialist Center.
LOCATION:Albany Vascular Specialist Center
UID:e.857.16603
SEQUENCE:3
DTSTAMP:20260420T203721Z
URL:https://business.albanyga.com/events/details/hyperbaric-center-grand-opening-16603
END:VEVENT

END:VCALENDAR
