BEGIN:VCALENDAR
VERSION:2.0
PRODID:-//ChamberMaster//Event Calendar 2.0//EN
METHOD:PUBLISH
X-PUBLISHED-TTL:P3D
REFRESH-INTERVAL:P3D
CALSCALE:GREGORIAN
BEGIN:VEVENT
DTSTART;VALUE=DATE:20260124
DTEND;VALUE=DATE:20260125
TRANSP:TRANSPARENT
X-MICROSOFT-CDO-ALLDAYEVENT:TRUE
SUMMARY:Invitation to Participate: Mental Health First Aid Training – January 24\, 2026
DESCRIPTION:We are pleased to invite you to participate in a Mental Health First Aid Training designed for community members\, partners\, and anyone in the Albany Metropolitan Statistical Area who is interested in strengthening mental health awareness and response skills.\n\n\nThis training is a collaboration between Morehouse School of Medicine and Atlanta AHEC with dissemination from our partners at United Way of SW GA\, to provide participants with practical tools to identify\, understand\, and respond to signs of mental health and substance use challenges. Attendees will learn how to build the skills and confidence needed to reach out to individuals who may be struggling and offer appropriate initial support.\n\nTraining Details: \n\n\n	Date: January 24\, 2026\n	Time: 8:30 a.m.   4:00 p.m.\n	Location: ASU Lovett Hall 109 Joseph Holley Circle Albany\, GA 31705\n\n\n \n\nMental Health First Aid empowers individuals to play a vital role in promoting well-being and supporting others within our community. We encourage community members\, professionals\, and partners to join us for this impactful learning opportunity.\n\nAdditional details regarding registration and materials will be shared soon. Should you have any questions in the meantime\, please do not hesitate to reach out to rphillips@msm.edu or bwicks@msm.edu
X-ALT-DESC;FMTTYPE=text/html:<div><span class="s1" style="font-variant-numeric: normal\; font-variant-east-asian: normal\; font-variant-alternates: normal\; font-size-adjust: none\; font-language-override: normal\; font-kerning: auto\; font-optical-sizing: auto\; font-feature-settings: normal\; font-variation-settings: normal\; font-variant-position: normal\; font-variant-emoji: normal\; font-stretch: normal\; font-size: 12px\; line-height: normal\;">&nbsp\;</span>We are pleased to invite you to participate in a <b>Mental Health First Aid Training </b>designed for community members\, partners\, and anyone in the <b>Albany Metropolitan Statistical Area </b>who is interested in strengthening mental health awareness and response skills.</div>\n\n<div>\n<p class="p2" style="margin: 0px\; font-variant-numeric: normal\; font-variant-east-asian: normal\; font-variant-alternates: normal\; font-size-adjust: none\; font-language-override: normal\; font-kerning: auto\; font-optical-sizing: auto\; font-feature-settings: normal\; font-variation-settings: normal\; font-variant-position: normal\; font-variant-emoji: normal\; font-stretch: normal\; font-size: 11.5px\; line-height: normal\; font-family: Helvetica\;">This training is a collaboration between <b>Morehouse School of Medicine </b>and <b>Atlanta AHEC </b>with dissemination from our partners at <b>United Way of SW GA\, to </b>provide participants with practical tools to identify\, understand\, and respond to signs of mental health and substance use challenges. Attendees will learn how to build the skills and confidence needed to reach out to individuals who may be struggling and offer appropriate initial support.</p>\n\n<p class="p2" style="margin: 0px\; font-variant-numeric: normal\; font-variant-east-asian: normal\; font-variant-alternates: normal\; font-size-adjust: none\; font-language-override: normal\; font-kerning: auto\; font-optical-sizing: auto\; font-feature-settings: normal\; font-variation-settings: normal\; font-variant-position: normal\; font-variant-emoji: normal\; font-stretch: normal\; font-size: 11.5px\; line-height: normal\; font-family: Helvetica\;"><b>Training Details: </b></p>\n\n<ul class="ul1">\n	<li class="li3" style="margin: 0px 0px 1.8px\; font-variant-numeric: normal\; font-variant-east-asian: normal\; font-variant-alternates: normal\; font-size-adjust: none\; font-language-override: normal\; font-kerning: auto\; font-optical-sizing: auto\; font-feature-settings: normal\; font-variation-settings: normal\; font-variant-position: normal\; font-variant-emoji: normal\; font-stretch: normal\; font-size: 11.5px\; line-height: normal\; font-family: Helvetica\;"><b>Date: </b>January 24\, 2026</li>\n	<li class="li3" style="margin: 0px 0px 1.8px\; font-variant-numeric: normal\; font-variant-east-asian: normal\; font-variant-alternates: normal\; font-size-adjust: none\; font-language-override: normal\; font-kerning: auto\; font-optical-sizing: auto\; font-feature-settings: normal\; font-variation-settings: normal\; font-variant-position: normal\; font-variant-emoji: normal\; font-stretch: normal\; font-size: 11.5px\; line-height: normal\; font-family: Helvetica\;"><b>Time: </b>8:30 a.m. &ndash\; 4:00 p.m.</li>\n	<li class="li2" style="margin: 0px\; font-variant-numeric: normal\; font-variant-east-asian: normal\; font-variant-alternates: normal\; font-size-adjust: none\; font-language-override: normal\; font-kerning: auto\; font-optical-sizing: auto\; font-feature-settings: normal\; font-variation-settings: normal\; font-variant-position: normal\; font-variant-emoji: normal\; font-stretch: normal\; font-size: 11.5px\; line-height: normal\; font-family: Helvetica\;"><b>Location: </b>ASU Lovett Hall 109 Joseph Holley Circle Albany\, GA 31705</li>\n</ul>\n\n<p class="p4" style="margin: 0px\; font-variant-numeric: normal\; font-variant-east-asian: normal\; font-variant-alternates: normal\; font-size-adjust: none\; font-language-override: normal\; font-kerning: auto\; font-optical-sizing: auto\; font-feature-settings: normal\; font-variation-settings: normal\; font-variant-position: normal\; font-variant-emoji: normal\; font-stretch: normal\; font-size: 11.5px\; line-height: normal\; font-family: Helvetica\; min-height: 14px\;">&nbsp\;</p>\n\n<p class="p2" style="margin: 0px\; font-variant-numeric: normal\; font-variant-east-asian: normal\; font-variant-alternates: normal\; font-size-adjust: none\; font-language-override: normal\; font-kerning: auto\; font-optical-sizing: auto\; font-feature-settings: normal\; font-variation-settings: normal\; font-variant-position: normal\; font-variant-emoji: normal\; font-stretch: normal\; font-size: 11.5px\; line-height: normal\; font-family: Helvetica\;">Mental Health First Aid empowers individuals to play a vital role in promoting well-being and supporting others within our community. We encourage community members\, professionals\, and partners to join us for this impactful learning opportunity.</p>\n\n<p class="p2" style="margin: 0px\; font-variant-numeric: normal\; font-variant-east-asian: normal\; font-variant-alternates: normal\; font-size-adjust: none\; font-language-override: normal\; font-kerning: auto\; font-optical-sizing: auto\; font-feature-settings: normal\; font-variation-settings: normal\; font-variant-position: normal\; font-variant-emoji: normal\; font-stretch: normal\; font-size: 11.5px\; line-height: normal\; font-family: Helvetica\;">Additional details regarding registration and materials will be shared soon. Should you have any questions in the meantime\, please do not hesitate to reach out to <span class="s2" style="color: rgb(70\, 120\, 133)\;">rphillips@msm.edu </span>or <span class="s2" style="color: rgb(70\, 120\, 133)\;">bwicks@msm.edu </span></p>\n</div>\n
LOCATION:ASU Lovett Hall 109 Joseph Holley Circle
UID:e.857.16715
SEQUENCE:3
DTSTAMP:20260421T163546Z
URL:https://business.albanyga.com/events/details/invitation-to-participate-mental-health-first-aid-training-january-24-2026-16715
END:VEVENT

END:VCALENDAR
