BEGIN:VCALENDAR
VERSION:2.0
PRODID:-//ChamberMaster//Event Calendar 2.0//EN
METHOD:PUBLISH
X-PUBLISHED-TTL:P3D
REFRESH-INTERVAL:P3D
CALSCALE:GREGORIAN
BEGIN:VEVENT
DTSTART:20260127T220000Z
DTEND:20260128T000000Z
X-MICROSOFT-CDO-ALLDAYEVENT:FALSE
SUMMARY:January 2026 Business After Hours hosted by The Canterbury Kitchen
DESCRIPTION:Mix it up at Business After Hours hosted by the Canterbury Kitchen! BAH is a casual networking event hosted each month by a member business. The event is free\, but registration is encouraged.
X-ALT-DESC;FMTTYPE=text/html:Mix it up at Business After Hours hosted by the Canterbury Kitchen! BAH is a casual networking event hosted each month by a member business. The event is free\, but registration is encouraged.&nbsp\;<br />\n&nbsp\;
LOCATION:2349 Lake Park Drive\, Albany\, GA 31707
UID:e.857.16716
SEQUENCE:3
DTSTAMP:20260421T163417Z
URL:https://business.albanyga.com/events/details/january-2026-business-after-hours-hosted-by-the-canterbury-kitchen-16716
END:VEVENT

END:VCALENDAR
