BEGIN:VCALENDAR
VERSION:2.0
PRODID:-//ChamberMaster//Event Calendar 2.0//EN
METHOD:PUBLISH
X-PUBLISHED-TTL:P3D
REFRESH-INTERVAL:P3D
CALSCALE:GREGORIAN
BEGIN:VEVENT
DTSTART:20260219T230000Z
DTEND:20260220T010000Z
X-MICROSOFT-CDO-ALLDAYEVENT:FALSE
SUMMARY:Love Where You Serve
DESCRIPTION:This interactive evening is your opportunity to learn more about the Albany Under 40 Young Professionals team\, our vision for the community\, and how you can get plugged into committees and leadership opportunities.
X-ALT-DESC;FMTTYPE=text/html:This interactive evening is your opportunity to learn more about the Albany Under 40 Young Professionals team\, our vision for the community\, and how you can get plugged into committees and leadership opportunities.&nbsp\;
LOCATION:The Candy Room 125 Pine Ave\, Albany\, 31701
UID:e.857.16725
SEQUENCE:3
DTSTAMP:20260421T140134Z
URL:https://business.albanyga.com/events/details/love-where-you-serve-16725
END:VEVENT

END:VCALENDAR
