BEGIN:VCALENDAR
VERSION:2.0
PRODID:-//ChamberMaster//Event Calendar 2.0//EN
METHOD:PUBLISH
X-PUBLISHED-TTL:P3D
REFRESH-INTERVAL:P3D
CALSCALE:GREGORIAN
BEGIN:VEVENT
DTSTART:20250220T163000Z
DTEND:20250220T180000Z
X-MICROSOFT-CDO-ALLDAYEVENT:FALSE
SUMMARY:Lunch & Learn - Work For Warriors Georgia
DESCRIPTION:Join Us for a Lunch & Learn to discover how Work for Warriors Georgia is making a difference in our community\n\nWhat is Work for Warriors?\n\nWork for Warriors is a dedicated program focused on connecting active duty service members\, veterans\, and their families with meaningful career opportunities. By partnering with employers across various industries\, Work for Warriors bridges the gap between those seeking gainful employment and businesses in need of skilled team members. Through personalized support\, r sum  assistance\, job leads\, and more\, this organization empowers individuals to succeed in today's job market.\n\nWhy Attend?\n\n\n	Learn how Work for Warriors can benefit you\, your employees\, or someone you know.\n	Connect with professionals\, employers\, and community members who share a passion for supporting our military community.\n	Discover resources\, tools\, and strategies to help overcome employment barriers and foster a thriving workforce.
X-ALT-DESC;FMTTYPE=text/html:<div dir="ltr">\n<p><span data-teams="true"><strong>Join Us for a Lunch &amp\; Learn </strong>to discover how <strong>Work for Warriors Georgia</strong> is making a difference in our community</span></p>\n\n<p><span data-teams="true"><strong>What is Work for Warriors?</strong><br />\n<a aria-label="Link Work for Warriors" class="fui-Link ___1q1shib f2hkw1w f3rmtva f1ewtqcl fyind8e f1k6fduh f1w7gpdv fk6fouc fjoy568 figsok6 f1s184ao f1mk8lai fnbmjn9 f1o700av f13mvf36 f1cmlufx f9n3di6 f1ids18y f1tx3yz7 f1deo86v f1eh06m1 f1iescvh fhgqx19 f1olyrje f1p93eir f1nev41a f1h8hb77 f1lqvz6u f10aw75t fsle3fq f17ae5zn" href="https://www.workforwarriors.com/" id="menur2g" rel="noreferrer noopener" target="_blank" title="https://www.workforwarriors.com/">Work for Warriors</a> is a dedicated program focused on connecting active duty service members\, veterans\, and their families with meaningful career opportunities. By partnering with employers across various industries\, Work for Warriors bridges the gap between those seeking gainful employment and businesses in need of skilled team members. Through personalized support\, r&eacute\;sum&eacute\; assistance\, job leads\, and more\, this organization empowers individuals to succeed in today&rsquo\;s job market.</span></p>\n\n<p><span data-teams="true"><strong>Why Attend?</strong></span></p>\n\n<ul>\n	<li><span data-teams="true"><strong>Learn</strong> how Work for Warriors can benefit you\, your employees\, or someone you know.</span></li>\n	<li><span data-teams="true"><strong>Connect</strong> with professionals\, employers\, and community members who share a passion for supporting our military community.</span></li>\n	<li><span data-teams="true"><strong>Discover</strong> resources\, tools\, and strategies to help overcome employment barriers and foster a thriving workforce.</span></li>\n</ul>\n\n<div>&nbsp\;</div>\n</div>\n
LOCATION:Date: February 20 Location: Albany Area Chamber of Commerce | 225 W. Broad Ave
UID:e.857.16626
SEQUENCE:3
DTSTAMP:20260424T121607Z
URL:https://business.albanyga.com/events/details/lunch-learn-work-for-warriors-georgia-16626
END:VEVENT

END:VCALENDAR
