BEGIN:VCALENDAR
VERSION:2.0
PRODID:-//ChamberMaster//Event Calendar 2.0//EN
METHOD:PUBLISH
X-PUBLISHED-TTL:P3D
REFRESH-INTERVAL:P3D
CALSCALE:GREGORIAN
BEGIN:VEVENT
DTSTART:20220308T130000Z
DTEND:20220308T143000Z
X-MICROSOFT-CDO-ALLDAYEVENT:FALSE
SUMMARY:Morning Mix & Mingle
DESCRIPTION:Meet some new connections at the Albany Area Chamber's Morning Mix & Mingle\, presented by Douglegate Country Club. Learn more about the Albany Area Chamber while building connections with the business community.
X-ALT-DESC;FMTTYPE=text/html:<div style="box-sizing: border-box\; font-family: &quot\;Segoe UI&quot\;\, system-ui\, &quot\;Apple Color Emoji&quot\;\, &quot\;Segoe UI Emoji&quot\;\, sans-serif\; font-size: 14px\;"><span style="font-family:arial\;"><span style="font-size:18px\;">Meet some new connections at the Albany Area Chamber&#39\;s Morning Mix &amp\; Mingle\, presented by</span><u><a href="https://www.doublegatecc.com/" rel="noreferrer noopener" style="font-size:18px\;" tabindex="-1" target="_blank" title="https://www.doublegatecc.com/"> </a></u><u><strong><a href="https://www.doublegatecc.com/" rel="noreferrer noopener" style="font-size:18px\;" tabindex="-1" target="_blank" title="https://www.doublegatecc.com/">Douglegate Country Club</a></strong></u><span style="font-size:18px\;">. Learn more about the Albany Area Chamber while building connections with the business community.&nbsp\;</span></span></div>\n
LOCATION:3800 Old Dawson Rd. Albany\, Georgia
UID:e.857.15335
SEQUENCE:3
DTSTAMP:20260426T000654Z
URL:https://business.albanyga.com/events/details/morning-mix-mingle-15335
END:VEVENT

END:VCALENDAR
