BEGIN:VCALENDAR
VERSION:2.0
PRODID:-//ChamberMaster//Event Calendar 2.0//EN
METHOD:PUBLISH
X-PUBLISHED-TTL:P3D
REFRESH-INTERVAL:P3D
CALSCALE:GREGORIAN
BEGIN:VEVENT
DTSTART:20240312T120000Z
DTEND:20240312T133000Z
X-MICROSOFT-CDO-ALLDAYEVENT:FALSE
SUMMARY:Morning Mix & Mingle
DESCRIPTION:Join the Albany Area Chamber March 12\, 2024 for its quarterly Morning Mix & Mingle\, presented by Doublegate Country Club\, for Chamber 101\, coffee and breakfast and networking. The event is an opportunity to meet others and learn more about how your business can benefit from membership in the Albany Area Chamber. The event is free to members and prospective members of the Albany Area Chamber.
X-ALT-DESC;FMTTYPE=text/html:<div style="box-sizing: border-box\;"><font face="arial"><span style="font-size: 14px\;">Join the&nbsp\;Albany&nbsp\;Area Chamber March 12\, 2024 for its quarterly&nbsp\;Morning Mix &amp\; Mingle\, presented by Doublegate Country Club\, for Chamber 101\, coffee and&nbsp\;breakfast and networking. The event is an&nbsp\;opportunity to meet others and&nbsp\;learn more about how your business can&nbsp\;benefit from&nbsp\;membership in the Albany Area Chamber. The event is free to members and&nbsp\;prospective members of the Albany Area Chamber.&nbsp\;</span></font></div>\n
LOCATION:Doublegate Country Club 3800 Old Dawson Road Albany\, Georgia
UID:e.857.15508
SEQUENCE:3
DTSTAMP:20260422T150210Z
URL:https://business.albanyga.com/events/details/morning-mix-mingle-15508
END:VEVENT

END:VCALENDAR
