BEGIN:VCALENDAR
VERSION:2.0
PRODID:-//ChamberMaster//Event Calendar 2.0//EN
METHOD:PUBLISH
X-PUBLISHED-TTL:P3D
REFRESH-INTERVAL:P3D
CALSCALE:GREGORIAN
BEGIN:VEVENT
DTSTART;VALUE=DATE:20250502
DTEND;VALUE=DATE:20250503
TRANSP:TRANSPARENT
X-MICROSOFT-CDO-ALLDAYEVENT:TRUE
SUMMARY:Play Yellow
DESCRIPTION:Led by Jack and Barbara Nicklaus\, the PGA TOUR and Children's Miracle Network Hospitals\, "Play Yellow for Children's Hospitals" strives to bring the entire golf world together to help the 10 million kids treated at local children's hospitals each year. Our tournament will raise money for our local infants treated at Phoebe. There will be shotgun starts for morning and afternoon play. Prizes will be awarded to first and second place in both rounds. There will also be exciting Hole-In-One\, Longest Drive and Closest to the Pin prizes.
X-ALT-DESC;FMTTYPE=text/html:Led by Jack and Barbara Nicklaus\, the PGA TOUR and Children&rsquo\;s Miracle Network Hospitals\, &ldquo\;Play Yellow for Children&rsquo\;s Hospitals&rdquo\; strives to bring the entire golf world together to help the 10 million kids treated at local children&rsquo\;s hospitals each year. Our tournament will raise money for our local infants treated at Phoebe. There will be shotgun starts for morning and afternoon play. Prizes will be awarded to first and second place in both rounds. There will also be exciting Hole-In-One\, Longest Drive and Closest to the Pin prizes.
LOCATION:Doublegate Country Club
UID:e.857.15566
SEQUENCE:3
DTSTAMP:20260424T174625Z
URL:https://business.albanyga.com/events/details/play-yellow-15566
END:VEVENT

END:VCALENDAR
