BEGIN:VCALENDAR
VERSION:2.0
PRODID:-//ChamberMaster//Event Calendar 2.0//EN
METHOD:PUBLISH
X-PUBLISHED-TTL:P3D
REFRESH-INTERVAL:P3D
CALSCALE:GREGORIAN
BEGIN:VEVENT
DTSTART;VALUE=DATE:20220326
DTEND;VALUE=DATE:20220327
TRANSP:TRANSPARENT
X-MICROSOFT-CDO-ALLDAYEVENT:TRUE
SUMMARY:Ride for Rights Poker Run
DESCRIPTION:Start your engines for inclusion! The Arc of Southwest Georgia invites you to join them for their March 26\, 2022 "Ride for Rights" Poker Run. Right for Rights attendees will allow motorcycle and car enthusiasts to spend a day of fun riding together\, stopping at businesses along the way to collect a playing card. The ride concludes at Buffalo Wild Wings of Albany\, where the best poker hand wins! Attendees will also be able to enjoy a silent auction\, music\, and more! Though a day filled with fun\, the Ride for Rights Poker Run will more importantly raise awareness for the challenges and needs of Southwest Georgians with disabilities\, as well as be a visible show of support and allow the community to join our fight for disability inclusion. Check-in and registration starts: 9:30AM (PowerSports Plus 3006 Kensington Court\, Albany\, GA 31721 Kick stands up: 10:30AM-11:30AM Snacks and drinks provided at each stop Finish by: 4PM (Buffalo Wild Wings\, 2822 Nottingham Way\, Albany\, GA 31707)\, where the celebration continues into the night with music\, silent auction\, and more! Two Route Options: Route 1- 165 Miles Stop 1- PowerSports Plus 3006 Kensington Court\, Albany\, GA 31721 Stop 2- The Arc Thomas Grady (106 Plantation Oak Drive\, Thomasville\, GA 31792) Stop 3- Buffalo Wild Wings (1301 US-82 W\, Tifton\, GA 31793) Stop 4- The Arc of Southwest Georgia (2200 Stuart Avenue\, Albany\, GA 31707) Stop 5- Buffalo Wild Wings (2822 Nottingham Way\, Albany\, GA 31707) FINISH BY 4:00PM Route 2- 100 Miles Stop 1- PowerSports Plus 3006 Kensington Court\, Albany\, GA 31721 Stop 2- Buffalo Wild Wings (1301 US-82 W\, Tifton\, GA 31793) Stop 3- The Arc of Southwest Georgia (2200 Stuart Avenue\, Albany\, GA 31707) Stop 4- Buffalo Wild Wings (2822 Nottingham Way\, Albany\, GA 31707) FINISH BY 4:00PM *Motorcycle rentals available at EagleRider Rentals: 706-400-6855
X-ALT-DESC;FMTTYPE=text/html:Start your engines for inclusion! The Arc of Southwest Georgia invites you to join them for their March 26\, 2022 &quot\;Ride for Rights&quot\; Poker Run. Right for Rights attendees will allow motorcycle and car enthusiasts to spend a day of fun riding together\, stopping at businesses along the way to collect a playing card. The ride concludes at Buffalo Wild Wings of Albany\, where the best poker hand wins! Attendees will also be able to enjoy a silent auction\, music\, and more! Though a day filled with fun\, the Ride for Rights Poker Run will more importantly raise awareness for the challenges and needs of Southwest Georgians with disabilities\, as well as be a visible show of support and allow the community to join our fight for disability inclusion. Check-in and registration starts: 9:30AM (<span style="caret-color: rgb(0\, 0\, 0)\; color: rgb(0\, 0\, 0)\; font-family: Calibri\, sans-serif\; font-size: 14.6667px\; text-size-adjust: auto\;">PowerSports Plus </span><span contextualstring="3006 Kensington Court\, Albany\, GA 31721" id="WEBEXT" style="font-family: Calibri\, sans-serif\; font-size: 14.6667px\; text-size-adjust: auto\; color: rgb(0\, 114\, 198)\; border-bottom-width: 1px\; border-bottom-style: dashed\;">3006 Kensington Court\, Albany\, GA 31721</span>&nbsp\;Kick stands up: 10:30AM-11:30AM Snacks and drinks provided at each stop Finish by: 4PM (Buffalo Wild Wings\, 2822 Nottingham Way\, Albany\, GA 31707)\, where the celebration continues into the night with music\, silent auction\, and more! Two Route Options: Route 1- 165 Miles Stop 1- <span style="caret-color: rgb(0\, 0\, 0)\; color: rgb(0\, 0\, 0)\; font-family: Calibri\, sans-serif\; font-size: 14.6667px\; text-size-adjust: auto\;">PowerSports Plus </span><span contextualstring="3006 Kensington Court\, Albany\, GA 31721" id="WEBEXT" style="font-family: Calibri\, sans-serif\; font-size: 14.6667px\; text-size-adjust: auto\; color: rgb(0\, 114\, 198)\; border-bottom-width: 1px\; border-bottom-style: dashed\;">3006 Kensington Court\, Albany\, GA 31721</span>&nbsp\;Stop 2- The Arc Thomas Grady (106 Plantation Oak Drive\, Thomasville\, GA 31792) Stop 3- Buffalo Wild Wings (1301 US-82 W\, Tifton\, GA 31793) Stop 4- The Arc of Southwest Georgia (2200 Stuart Avenue\, Albany\, GA 31707) Stop 5- Buffalo Wild Wings (2822 Nottingham Way\, Albany\, GA 31707) FINISH BY 4:00PM Route 2- 100 Miles Stop 1- <span style="caret-color: rgb(0\, 0\, 0)\; color: rgb(0\, 0\, 0)\; font-family: Calibri\, sans-serif\; font-size: 14.6667px\; text-size-adjust: auto\;">PowerSports Plus </span><span contextualstring="3006 Kensington Court\, Albany\, GA 31721" id="WEBEXT" style="font-family: Calibri\, sans-serif\; font-size: 14.6667px\; text-size-adjust: auto\; color: rgb(0\, 114\, 198)\; border-bottom-width: 1px\; border-bottom-style: dashed\;">3006 Kensington Court\, Albany\, GA 31721</span> Stop 2- Buffalo Wild Wings (1301 US-82 W\, Tifton\, GA 31793) Stop 3- The Arc of Southwest Georgia (2200 Stuart Avenue\, Albany\, GA 31707) Stop 4- Buffalo Wild Wings (2822 Nottingham Way\, Albany\, GA 31707) FINISH BY 4:00PM *Motorcycle rentals available at EagleRider Rentals: 706-400-6855
LOCATION:Begins at PowerSports Plus 3006 Kensington Court\, Albany\, GA 31721 & Ends at Buffalo Wild Wings Albany
UID:e.857.15330
SEQUENCE:3
DTSTAMP:20260426T001823Z
URL:https://business.albanyga.com/events/details/ride-for-rights-poker-run-15330
END:VEVENT

END:VCALENDAR
