BEGIN:VCALENDAR
VERSION:2.0
PRODID:-//ChamberMaster//Event Calendar 2.0//EN
METHOD:PUBLISH
X-PUBLISHED-TTL:P3D
REFRESH-INTERVAL:P3D
CALSCALE:GREGORIAN
BEGIN:VEVENT
DTSTART:20250403T230000Z
DTEND:20250405T230000Z
X-MICROSOFT-CDO-ALLDAYEVENT:FALSE
SUMMARY:Sherwood Christian Academy Presents Sight & Sound’s Joseph
DESCRIPTION:Experience the Story of Joseph Live on Stage! Join us April 3-5\, 2025\, as SCA High School Fine Arts proudly presents Joseph\, a production from Sight & Sound Theatres. This captivating performance brings the story of Joseph from Genesis to life with stunning visuals\, powerful storytelling\, and the incredible talent of our SCA Fine Arts students. Don't miss this unforgettable event mark your calendars today!
X-ALT-DESC;FMTTYPE=text/html:Experience the Story of Joseph Live on Stage! Join us April 3-5\, 2025\, as SCA High School Fine Arts proudly presents Joseph\, a production from Sight &amp\; Sound Theatres. This captivating performance brings the story of Joseph from Genesis to life with stunning visuals\, powerful storytelling\, and the incredible talent of our SCA Fine Arts students. Don&rsquo\;t miss this unforgettable event&mdash\;mark your calendars today!
LOCATION:Sherwood Baptist Church - Worship Center
UID:e.857.16642
SEQUENCE:3
DTSTAMP:20260424T132538Z
URL:https://business.albanyga.com/events/details/sherwood-christian-academy-presents-sight-sound-s-joseph-16642
END:VEVENT

END:VCALENDAR
