BEGIN:VCALENDAR
VERSION:2.0
PRODID:-//ChamberMaster//Event Calendar 2.0//EN
METHOD:PUBLISH
X-PUBLISHED-TTL:P3D
REFRESH-INTERVAL:P3D
CALSCALE:GREGORIAN
BEGIN:VEVENT
DTSTART:20240807T140000Z
DTEND:20240807T163000Z
X-MICROSOFT-CDO-ALLDAYEVENT:FALSE
SUMMARY:Small Business Certification Programs
DESCRIPTION:This is a live class that will be taught in-person and on-line. If you wish to participate on-line\, you will need a high-speed Internet connection. There is a 50 seat limit on-site. This seminar will cover all aspects of how to become certified and registered and the benefits for small businesses participating in the 8(a)\, Small Disadvantaged Business (SDB) and Historically Underutilized Business Zones (HUBZones)\, Woman Owned Business and Veteran Owned Business.
X-ALT-DESC;FMTTYPE=text/html:This is a live class that will be taught in-person and on-line. If you wish to participate on-line\, you will need a high-speed Internet connection. There is a 50 seat limit on-site. This seminar will cover all aspects of how to become certified and registered and the benefits for small businesses participating in the 8(a)\, Small Disadvantaged Business (SDB) and Historically Underutilized Business Zones (HUBZones)\, Woman Owned Business and Veteran Owned Business.
LOCATION:230 South Jackson Street 1st Floor Conference Room
UID:e.857.15558
SEQUENCE:3
DTSTAMP:20260424T233754Z
URL:https://business.albanyga.com/events/details/small-business-certification-programs-15558
END:VEVENT

END:VCALENDAR
