BEGIN:VCALENDAR
VERSION:2.0
PRODID:-//ChamberMaster//Event Calendar 2.0//EN
METHOD:PUBLISH
X-PUBLISHED-TTL:P3D
REFRESH-INTERVAL:P3D
CALSCALE:GREGORIAN
BEGIN:VEVENT
DTSTART;VALUE=DATE:20040217
DTEND;VALUE=DATE:20040218
TRANSP:TRANSPARENT
X-MICROSOFT-CDO-ALLDAYEVENT:TRUE
SUMMARY:Sponsorship
DESCRIPTION:
X-ALT-DESC;FMTTYPE=text/html:
LOCATION:
UID:e.857.377
SEQUENCE:3
DTSTAMP:20260425T221218Z
URL:https://business.albanyga.com/events/details/sponsorship-02-17-2004-377
END:VEVENT

END:VCALENDAR
