BEGIN:VCALENDAR
VERSION:2.0
PRODID:-//ChamberMaster//Event Calendar 2.0//EN
METHOD:PUBLISH
X-PUBLISHED-TTL:P3D
REFRESH-INTERVAL:P3D
CALSCALE:GREGORIAN
BEGIN:VEVENT
DTSTART:20260213T163000Z
DTEND:20260213T180000Z
X-MICROSOFT-CDO-ALLDAYEVENT:FALSE
SUMMARY:STAR Student Luncheon 2026
DESCRIPTION:The Albany Area Chamber's 68th annual STAR Student Luncheon celebrates Dougherty County's best and brightest high school seniors\, along with the educators who have been most influential in their academic careers.\n\n\n\nThe February 13 event is a function of the Chamber's Talent Catalyst division\, in its mission to impact and strengthen the education-to-workforce pipeline and cultivate the community's next generation of leaders.
X-ALT-DESC;FMTTYPE=text/html:<div class="x11i5rnm xat24cr x1mh8g0r x1vvkbs xdj266r x126k92a" style="margin: 0px\; white-space: pre-wrap\; word-wrap: break-word\; font-family: system-ui\, -apple-system\, BlinkMacSystemFont\, &quot\;.SFNSText-Regular&quot\;\, sans-serif\; caret-color: rgb(5\, 5\, 5)\; color: rgb(5\, 5\, 5)\; font-size: 15px\;">\n<div dir="auto" style="font-family: inherit\;"><span style="font-size:14px\;"><span style="font-family:arial\;">The Albany Area Chamber&#39\;s 68th annual STAR Student Luncheon celebrates Dougherty County&#39\;s best and brightest high school seniors\, along with the educators who have been most influential in their academic careers.</span></span></div>\n</div>\n\n<div class="x11i5rnm xat24cr x1mh8g0r x1vvkbs xtlvy1s x126k92a" style="margin: 0.5em 0px 0px\; white-space: pre-wrap\; word-wrap: break-word\; font-family: system-ui\, -apple-system\, BlinkMacSystemFont\, &quot\;.SFNSText-Regular&quot\;\, sans-serif\; caret-color: rgb(5\, 5\, 5)\; color: rgb(5\, 5\, 5)\; font-size: 15px\;">\n<div dir="auto" style="font-family: inherit\;"><span style="font-size:14px\;"><span style="font-family:arial\;">The February 13 event is a function of the Chamber&#39\;s Talent Catalyst division\, in its mission to impact and strengthen the education-to-workforce pipeline and cultivate the community&#39\;s next generation of leaders.</span></span></div>\n</div>\n
LOCATION:Albany State University Bookstore Event Center 2400 Gillionville Road Albany\, Georgia 31707
UID:e.857.16711
SEQUENCE:3
DTSTAMP:20260421T152428Z
URL:https://business.albanyga.com/events/details/star-student-luncheon-2026-16711
END:VEVENT

END:VCALENDAR
