BEGIN:VCALENDAR
VERSION:2.0
PRODID:-//ChamberMaster//Event Calendar 2.0//EN
METHOD:PUBLISH
X-PUBLISHED-TTL:P3D
REFRESH-INTERVAL:P3D
CALSCALE:GREGORIAN
BEGIN:VEVENT
DTSTART:20220304T160000Z
DTEND:20220304T170000Z
X-MICROSOFT-CDO-ALLDAYEVENT:FALSE
SUMMARY:US19 Dragway Ribbon Cutting
DESCRIPTION:Ribbon Cutting hosted by Albany Chamber of Commerce for US19 Dragway New Ownership 11am 1304 Williamsburg Road\, Albany\, GA 31705
X-ALT-DESC;FMTTYPE=text/html:Ribbon Cutting hosted by Albany Chamber of Commerce for US19 Dragway New Ownership 11am 1304 Williamsburg Road\, Albany\, GA 31705
LOCATION:1304 Williamsburg Road\, Albany\, GA 31705
UID:e.857.15342
SEQUENCE:3
DTSTAMP:20260426T003102Z
URL:https://business.albanyga.com/events/details/us19-dragway-ribbon-cutting-15342
END:VEVENT

END:VCALENDAR
