BEGIN:VCALENDAR
VERSION:2.0
PRODID:-//ChamberMaster//Event Calendar 2.0//EN
METHOD:PUBLISH
X-PUBLISHED-TTL:P3D
REFRESH-INTERVAL:P3D
CALSCALE:GREGORIAN
BEGIN:VEVENT
DTSTART:20220304T160000Z
DTEND:20220307T000000Z
X-MICROSOFT-CDO-ALLDAYEVENT:FALSE
SUMMARY:US19 Dragway Season Opening Evens
DESCRIPTION:March 4 - 11am - Ribbon Cutting Ceremeony March 4 - 6pm - Test and Tune March 5 - 12pm - Heads Up Havoc Race March 6 - 11am - Church - New Seasons Church at Radium Springs March 6 - Celebration - Live Music and Dinner Gate Open 3:30pm\, Event 4pm - 7pm
X-ALT-DESC;FMTTYPE=text/html:March 4 - 11am - Ribbon Cutting Ceremeony March 4 - 6pm - Test and Tune March 5 - 12pm - Heads Up Havoc Race March 6 - 11am - Church - New Seasons Church at Radium Springs March 6 - Celebration - Live Music and Dinner Gate Open 3:30pm\, Event 4pm - 7pm
LOCATION:1304 Williamsburg Road\, Albany\, GA 31705
UID:e.857.15343
SEQUENCE:3
DTSTAMP:20260426T003107Z
URL:https://business.albanyga.com/events/details/us19-dragway-season-opening-evens-15343
END:VEVENT

END:VCALENDAR
